BEGIN:VCALENDAR
PRODID:-//eluceo/ical//2.0/EN
VERSION:2.0
CALSCALE:GREGORIAN
BEGIN:VEVENT
UID:d0e02af02f07c1384be37d7fa120b88f
DTSTAMP:20260421T084705Z
SUMMARY:C1-Liga: Team Desaster Mädels vs. Die lustigen Gremlins (Moosacher
  Dartclub  e. V.)
DTSTART;TZID=Europe/Berlin:20251011T200000
DTEND;TZID=Europe/Berlin:20251011T220000
LOCATION:Weitlstr. 140\, 80995 München
END:VEVENT
BEGIN:VEVENT
UID:8e34124f2f2e23ec80a0f9c9bbe3d1c0
DTSTAMP:20260421T084705Z
SUMMARY:C1-Liga: Dorfkinder vs. Team Desaster Mädels (Dartpub 180)
DTSTART;TZID=Europe/Berlin:20251017T200000
DTEND;TZID=Europe/Berlin:20251017T220000
LOCATION:Ladehofstr. 10-12\, 85540 Haar
END:VEVENT
BEGIN:VEVENT
UID:f1d2884ed8d1c063db3cabc3c3321fb6
DTSTAMP:20260421T084705Z
SUMMARY:C1-Liga: Team Desaster Mädels vs. Speerwerfer 2 (Moosacher Dartclu
 b  e. V.)
DTSTART;TZID=Europe/Berlin:20251025T200000
DTEND;TZID=Europe/Berlin:20251025T220000
LOCATION:Weitlstr. 140\, 80995 München
END:VEVENT
BEGIN:VEVENT
UID:00722ba595bdc6a0a71d6b834bd574f4
DTSTAMP:20260421T084705Z
SUMMARY:C1-Liga: Kings & Queens of Harlekin vs. Team Desaster Mädels (Bist
 ro Harlekin)
DTSTART;TZID=Europe/Berlin:20251107T200000
DTEND;TZID=Europe/Berlin:20251107T220000
LOCATION:Oefelestr. 21\, 81543 München
END:VEVENT
BEGIN:VEVENT
UID:1512b304f604d3068e30476a4569cb31
DTSTAMP:20260421T084705Z
SUMMARY:C1-Liga: Team Desaster Mädels vs. Pegasus UFG (Moosacher Dartclub 
  e. V.)
DTSTART;TZID=Europe/Berlin:20251115T200000
DTEND;TZID=Europe/Berlin:20251115T220000
LOCATION:Weitlstr. 140\, 80995 München
END:VEVENT
BEGIN:VEVENT
UID:9d4338f69af1d5b9a653a506a3af75f2
DTSTAMP:20260421T084705Z
SUMMARY:C1-Liga: FSC Bierbüffel vs. Team Desaster Mädels (VH Ebersberg)
DTSTART;TZID=Europe/Berlin:20251122T200000
DTEND;TZID=Europe/Berlin:20251122T220000
LOCATION:Heinrich-Vogel-Str. 3\, 85560 Ebersberg
END:VEVENT
BEGIN:VEVENT
UID:56f00f1ede811d4d3d88ba845ab9241d
DTSTAMP:20260421T084705Z
SUMMARY:C1-Liga: Harlekins Team Surprise vs. Team Desaster Mädels (Bistro 
 Harlekin)
DTSTART;TZID=Europe/Berlin:20251205T200000
DTEND;TZID=Europe/Berlin:20251205T220000
LOCATION:Oefelestr. 21\, 81543 München
END:VEVENT
BEGIN:VEVENT
UID:9343b74eee2f377067f2bcd7f2fcdcf2
DTSTAMP:20260421T084705Z
SUMMARY:C1-Liga: Team Desaster Mädels vs. DC Räuber Kneißl (Moosacher Da
 rtclub  e. V.)
DTSTART;TZID=Europe/Berlin:20251220T200000
DTEND;TZID=Europe/Berlin:20251220T220000
LOCATION:Weitlstr. 140\, 80995 München
END:VEVENT
BEGIN:VEVENT
UID:d88d3940167ab2fe6be03029cbc5c707
DTSTAMP:20260421T084705Z
SUMMARY:C1-Liga: Jolly Pirates 3 vs. Team Desaster Mädels (Jolly Roger)
DTSTART;TZID=Europe/Berlin:20260110T203000
DTEND;TZID=Europe/Berlin:20260110T223000
LOCATION:Poststr. 2\, 85586 Poing
END:VEVENT
BEGIN:VEVENT
UID:cd7f24e2ba90b8bfccfe00a24dd48819
DTSTAMP:20260421T084705Z
SUMMARY:C1-Liga: Team Desaster Mädels vs. Board Killaz Neubiberg III (Moos
 acher Dartclub  e. V.)
DTSTART;TZID=Europe/Berlin:20260123T200000
DTEND;TZID=Europe/Berlin:20260123T220000
LOCATION:Weitlstr. 140\, 80995 München
END:VEVENT
BEGIN:VEVENT
UID:3700af28114328cf8b1d845a50380732
DTSTAMP:20260421T084705Z
SUMMARY:C1-Liga: Kneipenterroristen vs. Team Desaster Mädels (RG Bar)
DTSTART;TZID=Europe/Berlin:20260207T200000
DTEND;TZID=Europe/Berlin:20260207T220000
LOCATION:Gleichmannstr. 6\, 81241 München
END:VEVENT
BEGIN:VEVENT
UID:9f6007c57c5d1e71f25c8fed9af2ce3c
DTSTAMP:20260421T084705Z
SUMMARY:C1-Liga: Die lustigen Gremlins vs. Team Desaster Mädels (Tonis Wir
 tshaus)
DTSTART;TZID=Europe/Berlin:20260228T200000
DTEND;TZID=Europe/Berlin:20260228T220000
LOCATION:Arnulfstr. 130\, 80634 München
END:VEVENT
BEGIN:VEVENT
UID:9e81a8869200d8d830055a18ea80840e
DTSTAMP:20260421T084705Z
SUMMARY:C1-Liga: Team Desaster Mädels vs. Dorfkinder (Moosacher Dartclub  
 e. V.)
DTSTART;TZID=Europe/Berlin:20260307T200000
DTEND;TZID=Europe/Berlin:20260307T220000
LOCATION:Weitlstr. 140\, 80995 München
END:VEVENT
BEGIN:VEVENT
UID:2325c65858138d5e8a600e33e4a7d3fd
DTSTAMP:20260421T084705Z
SUMMARY:C1-Liga: Speerwerfer 2 vs. Team Desaster Mädels (Allround Bar)
DTSTART;TZID=Europe/Berlin:20260320T200000
DTEND;TZID=Europe/Berlin:20260320T220000
LOCATION:Rosenheimerstr. 11A\, 85635 Höhenkirchen
END:VEVENT
BEGIN:VEVENT
UID:010b0dc5d8cef103ae1c817953a4fdf4
DTSTAMP:20260421T084705Z
SUMMARY:C1-Liga: Team Desaster Mädels vs. Kings & Queens of Harlekin (Moos
 acher Dartclub  e. V.)
DTSTART;TZID=Europe/Berlin:20260410T200000
DTEND;TZID=Europe/Berlin:20260410T220000
LOCATION:Weitlstr. 140\, 80995 München
END:VEVENT
BEGIN:VEVENT
UID:17b7644b215e8a9f41c67ea6b155e9f6
DTSTAMP:20260421T084705Z
SUMMARY:C1-Liga: Pegasus UFG vs. Team Desaster Mädels (Vereinsheim FC Unte
 rföhring)
DTSTART;TZID=Europe/Berlin:20260418T190000
DTEND;TZID=Europe/Berlin:20260418T210000
LOCATION:Bergstr\, 4a\, 85774 Unterföring
END:VEVENT
BEGIN:VEVENT
UID:515a0664099bb8ced6c3826ab939e536
DTSTAMP:20260421T084705Z
SUMMARY:C1-Liga: Team Desaster Mädels vs. FSC Bierbüffel (Moosacher Dartc
 lub  e. V.)
DTSTART;TZID=Europe/Berlin:20260425T200000
DTEND;TZID=Europe/Berlin:20260425T220000
LOCATION:Weitlstr. 140\, 80995 München
END:VEVENT
BEGIN:VEVENT
UID:0ba62a8e4601963704668db37555468b
DTSTAMP:20260421T084705Z
SUMMARY:C1-Liga: Team Desaster Mädels vs. Harlekins Team Surprise (Moosach
 er Dartclub  e. V.)
DTSTART;TZID=Europe/Berlin:20260502T200000
DTEND;TZID=Europe/Berlin:20260502T220000
LOCATION:Weitlstr. 140\, 80995 München
END:VEVENT
BEGIN:VEVENT
UID:55f8a82b92bbb34c2c98319afc463a5b
DTSTAMP:20260421T084705Z
SUMMARY:C1-Liga: DC Räuber Kneißl vs. Team Desaster Mädels (Kegelbahn DC
  Wahnsinn)
DTSTART;TZID=Europe/Berlin:20260516T200000
DTEND;TZID=Europe/Berlin:20260516T220000
LOCATION:Stresemannstr. 17\, 85221 Dachau
END:VEVENT
BEGIN:VEVENT
UID:572401ce50265d3daae7d4fe875b5c54
DTSTAMP:20260421T084705Z
SUMMARY:C1-Liga: Team Desaster Mädels vs. Jolly Pirates 3 (Moosacher Dartc
 lub  e. V.)
DTSTART;TZID=Europe/Berlin:20260530T200000
DTEND;TZID=Europe/Berlin:20260530T220000
LOCATION:Weitlstr. 140\, 80995 München
END:VEVENT
BEGIN:VEVENT
UID:4a3eff60a03c6021e089c40dc91339ca
DTSTAMP:20260421T084705Z
SUMMARY:C1-Liga: Board Killaz Neubiberg III vs. Team Desaster Mädels (Rest
 aurant Minoa)
DTSTART;TZID=Europe/Berlin:20260605T200000
DTEND;TZID=Europe/Berlin:20260605T220000
LOCATION:Zwergerstr. 28\, 85579 Neubiberg
END:VEVENT
BEGIN:VEVENT
UID:c358cb1ac689781b43e8ace7f9715056
DTSTAMP:20260421T084705Z
SUMMARY:C1-Liga: Team Desaster Mädels vs. Kneipenterroristen (Moosacher Da
 rtclub  e. V.)
DTSTART;TZID=Europe/Berlin:20260620T130000
DTEND;TZID=Europe/Berlin:20260620T150000
LOCATION:Weitlstr. 140\, 80995 München
END:VEVENT
END:VCALENDAR
