BEGIN:VCALENDAR
PRODID:-//eluceo/ical//2.0/EN
VERSION:2.0
CALSCALE:GREGORIAN
BEGIN:VEVENT
UID:b201ee435e7ea763e65efc5d7ec34073
DTSTAMP:20260421T084643Z
SUMMARY:C1-Liga: FSC Bierbüffel vs. Dorfkinder (VH Ebersberg)
DTSTART;TZID=Europe/Berlin:20251011T200000
DTEND;TZID=Europe/Berlin:20251011T220000
LOCATION:Heinrich-Vogel-Str. 3\, 85560 Ebersberg
END:VEVENT
BEGIN:VEVENT
UID:600edb59c87d4c2ab1d3b61dfc1d2ed2
DTSTAMP:20260421T084643Z
SUMMARY:C1-Liga: Dorfkinder vs. Team Desaster Mädels (Dartpub 180)
DTSTART;TZID=Europe/Berlin:20251017T200000
DTEND;TZID=Europe/Berlin:20251017T220000
LOCATION:Ladehofstr. 10-12\, 85540 Haar
END:VEVENT
BEGIN:VEVENT
UID:ce5dc496fe71606f4903116ec56da66d
DTSTAMP:20260421T084643Z
SUMMARY:C1-Liga: DC Räuber Kneißl vs. Dorfkinder (Kegelbahn DC Wahnsinn)
DTSTART;TZID=Europe/Berlin:20251025T200000
DTEND;TZID=Europe/Berlin:20251025T220000
LOCATION:Stresemannstr. 17\, 85221 Dachau
END:VEVENT
BEGIN:VEVENT
UID:02ec8a2326c2c2086fc783f391cc16f9
DTSTAMP:20260421T084643Z
SUMMARY:C1-Liga: Dorfkinder vs. Jolly Pirates 3 (Dartpub 180)
DTSTART;TZID=Europe/Berlin:20251107T200000
DTEND;TZID=Europe/Berlin:20251107T220000
LOCATION:Ladehofstr. 10-12\, 85540 Haar
END:VEVENT
BEGIN:VEVENT
UID:be84f807ba09dc9d806643e38be95677
DTSTAMP:20260421T084643Z
SUMMARY:C1-Liga: Board Killaz Neubiberg III vs. Dorfkinder (Restaurant Mino
 a)
DTSTART;TZID=Europe/Berlin:20251114T200000
DTEND;TZID=Europe/Berlin:20251114T220000
LOCATION:Zwergerstr. 28\, 85579 Neubiberg
END:VEVENT
BEGIN:VEVENT
UID:540dffe6ef650da168311b9235adc25d
DTSTAMP:20260421T084643Z
SUMMARY:C1-Liga: Dorfkinder vs. Kneipenterroristen (Dartpub 180)
DTSTART;TZID=Europe/Berlin:20251122T200000
DTEND;TZID=Europe/Berlin:20251122T220000
LOCATION:Ladehofstr. 10-12\, 85540 Haar
END:VEVENT
BEGIN:VEVENT
UID:a73c20bc734ccd7bd9c437152ff52187
DTSTAMP:20260421T084643Z
SUMMARY:C1-Liga: Die lustigen Gremlins vs. Dorfkinder (Tonis Wirtshaus)
DTSTART;TZID=Europe/Berlin:20251206T200000
DTEND;TZID=Europe/Berlin:20251206T220000
LOCATION:Arnulfstr. 130\, 80634 München
END:VEVENT
BEGIN:VEVENT
UID:26ae9b7e17e3429518e9278f967f3dcb
DTSTAMP:20260421T084643Z
SUMMARY:C1-Liga: Dorfkinder vs. Harlekins Team Surprise (Dartpub 180)
DTSTART;TZID=Europe/Berlin:20251220T200000
DTEND;TZID=Europe/Berlin:20251220T220000
LOCATION:Ladehofstr. 10-12\, 85540 Haar
END:VEVENT
BEGIN:VEVENT
UID:9cb350408ecd63230e01051a2158a2cd
DTSTAMP:20260421T084643Z
SUMMARY:C1-Liga: Dorfkinder vs. Speerwerfer 2 (Dartpub 180)
DTSTART;TZID=Europe/Berlin:20260110T200000
DTEND;TZID=Europe/Berlin:20260110T220000
LOCATION:Ladehofstr. 10-12\, 85540 Haar
END:VEVENT
BEGIN:VEVENT
UID:c45aa789dae93549a8a6b148a82c5ed6
DTSTAMP:20260421T084643Z
SUMMARY:C1-Liga: Kings & Queens of Harlekin vs. Dorfkinder (Bistro Harlekin
 )
DTSTART;TZID=Europe/Berlin:20260131T200000
DTEND;TZID=Europe/Berlin:20260131T220000
LOCATION:Oefelestr. 21\, 81543 München
END:VEVENT
BEGIN:VEVENT
UID:59aaf922fc360a57806678aa5c50b77c
DTSTAMP:20260421T084643Z
SUMMARY:C1-Liga: Dorfkinder vs. Pegasus UFG (Dartpub 180)
DTSTART;TZID=Europe/Berlin:20260207T200000
DTEND;TZID=Europe/Berlin:20260207T220000
LOCATION:Ladehofstr. 10-12\, 85540 Haar
END:VEVENT
BEGIN:VEVENT
UID:b0114f68a3996c0c70d6fdc50622319a
DTSTAMP:20260421T084643Z
SUMMARY:C1-Liga: Dorfkinder vs. FSC Bierbüffel (Dartpub 180)
DTSTART;TZID=Europe/Berlin:20260227T200000
DTEND;TZID=Europe/Berlin:20260227T220000
LOCATION:Ladehofstr. 10-12\, 85540 Haar
END:VEVENT
BEGIN:VEVENT
UID:52e69dd673a8e9eb4736df3651bda350
DTSTAMP:20260421T084643Z
SUMMARY:C1-Liga: Team Desaster Mädels vs. Dorfkinder (Moosacher Dartclub  
 e. V.)
DTSTART;TZID=Europe/Berlin:20260307T200000
DTEND;TZID=Europe/Berlin:20260307T220000
LOCATION:Weitlstr. 140\, 80995 München
END:VEVENT
BEGIN:VEVENT
UID:0bab20b92e8e171361a99c0f7ee38b0c
DTSTAMP:20260421T084643Z
SUMMARY:C1-Liga: Dorfkinder vs. DC Räuber Kneißl (Dartpub 180)
DTSTART;TZID=Europe/Berlin:20260320T200000
DTEND;TZID=Europe/Berlin:20260320T220000
LOCATION:Ladehofstr. 10-12\, 85540 Haar
END:VEVENT
BEGIN:VEVENT
UID:ccff270bf703ad107f19c12debde145d
DTSTAMP:20260421T084643Z
SUMMARY:C1-Liga: Jolly Pirates 3 vs. Dorfkinder (Jolly Roger)
DTSTART;TZID=Europe/Berlin:20260411T203000
DTEND;TZID=Europe/Berlin:20260411T223000
LOCATION:Poststr. 2\, 85586 Poing
END:VEVENT
BEGIN:VEVENT
UID:c732cad66a6773f34fd9a01414bd5d03
DTSTAMP:20260421T084643Z
SUMMARY:C1-Liga: Dorfkinder vs. Board Killaz Neubiberg III (Dartpub 180)
DTSTART;TZID=Europe/Berlin:20260417T200000
DTEND;TZID=Europe/Berlin:20260417T220000
LOCATION:Ladehofstr. 10-12\, 85540 Haar
END:VEVENT
BEGIN:VEVENT
UID:75e9a8540408ec864427740d63cc725b
DTSTAMP:20260421T084643Z
SUMMARY:C1-Liga: Kneipenterroristen vs. Dorfkinder (RG Bar)
DTSTART;TZID=Europe/Berlin:20260425T200000
DTEND;TZID=Europe/Berlin:20260425T220000
LOCATION:Gleichmannstr. 6\, 81241 München
END:VEVENT
BEGIN:VEVENT
UID:f99b6959b57f2c2ea5dd6c41ddc1932f
DTSTAMP:20260421T084643Z
SUMMARY:C1-Liga: Dorfkinder vs. Die lustigen Gremlins (Dartpub 180)
DTSTART;TZID=Europe/Berlin:20260502T200000
DTEND;TZID=Europe/Berlin:20260502T220000
LOCATION:Ladehofstr. 10-12\, 85540 Haar
END:VEVENT
BEGIN:VEVENT
UID:d54f3c1d2295b78865dbdea5b2c5b753
DTSTAMP:20260421T084643Z
SUMMARY:C1-Liga: Harlekins Team Surprise vs. Dorfkinder (Bistro Harlekin)
DTSTART;TZID=Europe/Berlin:20260516T150000
DTEND;TZID=Europe/Berlin:20260516T170000
LOCATION:Oefelestr. 21\, 81543 München
END:VEVENT
BEGIN:VEVENT
UID:a1647e1f8cf3d9c3fc40d6b35678f3d7
DTSTAMP:20260421T084643Z
SUMMARY:C1-Liga: Speerwerfer 2 vs. Dorfkinder (Allround Bar)
DTSTART;TZID=Europe/Berlin:20260529T200000
DTEND;TZID=Europe/Berlin:20260529T220000
LOCATION:Rosenheimerstr. 11A\, 85635 Höhenkirchen
END:VEVENT
BEGIN:VEVENT
UID:342805b1bb7c09bf78f7983932292e9b
DTSTAMP:20260421T084643Z
SUMMARY:C1-Liga: Dorfkinder vs. Kings & Queens of Harlekin (Dartpub 180)
DTSTART;TZID=Europe/Berlin:20260605T200000
DTEND;TZID=Europe/Berlin:20260605T220000
LOCATION:Ladehofstr. 10-12\, 85540 Haar
END:VEVENT
BEGIN:VEVENT
UID:a614b5caea51b5b9b96ea156226cf5d4
DTSTAMP:20260421T084643Z
SUMMARY:C1-Liga: Pegasus UFG vs. Dorfkinder (Vereinsheim FC Unterföhring)
DTSTART;TZID=Europe/Berlin:20260620T190000
DTEND;TZID=Europe/Berlin:20260620T210000
LOCATION:Bergstr\, 4a\, 85774 Unterföring
END:VEVENT
END:VCALENDAR
