BEGIN:VCALENDAR
PRODID:-//eluceo/ical//2.0/EN
VERSION:2.0
CALSCALE:GREGORIAN
BEGIN:VEVENT
UID:ecb2bb624327d29221bd7327581748d5
DTSTAMP:20260421T082925Z
SUMMARY:C1-Liga: FSC Bierbüffel vs. Dorfkinder (VH Ebersberg)
DTSTART;TZID=Europe/Berlin:20251011T200000
DTEND;TZID=Europe/Berlin:20251011T220000
LOCATION:Heinrich-Vogel-Str. 3\, 85560 Ebersberg
END:VEVENT
BEGIN:VEVENT
UID:059bb528b72da74002bab3cba7751492
DTSTAMP:20260421T082925Z
SUMMARY:C1-Liga: Speerwerfer 2 vs. FSC Bierbüffel (Allround Bar)
DTSTART;TZID=Europe/Berlin:20251017T200000
DTEND;TZID=Europe/Berlin:20251017T220000
LOCATION:Rosenheimerstr. 11A\, 85635 Höhenkirchen
END:VEVENT
BEGIN:VEVENT
UID:472f50fd6a40d391e10948fdb17999a2
DTSTAMP:20260421T082925Z
SUMMARY:C1-Liga: FSC Bierbüffel vs. Kings & Queens of Harlekin (VH Ebersbe
 rg)
DTSTART;TZID=Europe/Berlin:20251025T200000
DTEND;TZID=Europe/Berlin:20251025T220000
LOCATION:Heinrich-Vogel-Str. 3\, 85560 Ebersberg
END:VEVENT
BEGIN:VEVENT
UID:5134aeaaba07260a23b3e7cdefe7b6d3
DTSTAMP:20260421T082925Z
SUMMARY:C1-Liga: Pegasus UFG vs. FSC Bierbüffel (Vereinsheim FC Unterföhr
 ing)
DTSTART;TZID=Europe/Berlin:20251108T200000
DTEND;TZID=Europe/Berlin:20251108T220000
LOCATION:Bergstr\, 4a\, 85774 Unterföring
END:VEVENT
BEGIN:VEVENT
UID:19006f3904c619d2effec51fc2179e80
DTSTAMP:20260421T082925Z
SUMMARY:C1-Liga: Harlekins Team Surprise vs. FSC Bierbüffel (Bistro Harlek
 in)
DTSTART;TZID=Europe/Berlin:20251114T200000
DTEND;TZID=Europe/Berlin:20251114T220000
LOCATION:Oefelestr. 21\, 81543 München
END:VEVENT
BEGIN:VEVENT
UID:7615cdb26ca2e2dc32ef4852540bea4f
DTSTAMP:20260421T082925Z
SUMMARY:C1-Liga: FSC Bierbüffel vs. Team Desaster Mädels (VH Ebersberg)
DTSTART;TZID=Europe/Berlin:20251122T200000
DTEND;TZID=Europe/Berlin:20251122T220000
LOCATION:Heinrich-Vogel-Str. 3\, 85560 Ebersberg
END:VEVENT
BEGIN:VEVENT
UID:d8dd5eabda7354a471d8d329856b6bfe
DTSTAMP:20260421T082925Z
SUMMARY:C1-Liga: DC Räuber Kneißl vs. FSC Bierbüffel (Kegelbahn DC Wahns
 inn)
DTSTART;TZID=Europe/Berlin:20251206T200000
DTEND;TZID=Europe/Berlin:20251206T220000
LOCATION:Stresemannstr. 17\, 85221 Dachau
END:VEVENT
BEGIN:VEVENT
UID:642b1307b98c939354566404351d2c8c
DTSTAMP:20260421T082925Z
SUMMARY:C1-Liga: FSC Bierbüffel vs. Jolly Pirates 3 (VH Ebersberg)
DTSTART;TZID=Europe/Berlin:20251220T200000
DTEND;TZID=Europe/Berlin:20251220T220000
LOCATION:Heinrich-Vogel-Str. 3\, 85560 Ebersberg
END:VEVENT
BEGIN:VEVENT
UID:ca43f50f31fa210a3f1ef91de77d74f3
DTSTAMP:20260421T082925Z
SUMMARY:C1-Liga: Board Killaz Neubiberg III vs. FSC Bierbüffel (Restaurant
  Minoa)
DTSTART;TZID=Europe/Berlin:20260109T200000
DTEND;TZID=Europe/Berlin:20260109T220000
LOCATION:Zwergerstr. 28\, 85579 Neubiberg
END:VEVENT
BEGIN:VEVENT
UID:9bfb54e6393af2f5d98ab3abe2bbdb30
DTSTAMP:20260421T082925Z
SUMMARY:C1-Liga: FSC Bierbüffel vs. Kneipenterroristen (VH Ebersberg)
DTSTART;TZID=Europe/Berlin:20260124T200000
DTEND;TZID=Europe/Berlin:20260124T220000
LOCATION:Heinrich-Vogel-Str. 3\, 85560 Ebersberg
END:VEVENT
BEGIN:VEVENT
UID:7ed747fb768de96a26a9b38c7e980f89
DTSTAMP:20260421T082925Z
SUMMARY:C1-Liga: Die lustigen Gremlins vs. FSC Bierbüffel (Tonis Wirtshaus
 )
DTSTART;TZID=Europe/Berlin:20260221T200000
DTEND;TZID=Europe/Berlin:20260221T220000
LOCATION:Arnulfstr. 130\, 80634 München
END:VEVENT
BEGIN:VEVENT
UID:d2c9af312e2c7b6eea0421e1d4c73b0f
DTSTAMP:20260421T082925Z
SUMMARY:C1-Liga: Dorfkinder vs. FSC Bierbüffel (Dartpub 180)
DTSTART;TZID=Europe/Berlin:20260227T200000
DTEND;TZID=Europe/Berlin:20260227T220000
LOCATION:Ladehofstr. 10-12\, 85540 Haar
END:VEVENT
BEGIN:VEVENT
UID:97646cb4a8ff9e3949c0af913b022aeb
DTSTAMP:20260421T082925Z
SUMMARY:C1-Liga: FSC Bierbüffel vs. Speerwerfer 2 (VH Ebersberg)
DTSTART;TZID=Europe/Berlin:20260307T200000
DTEND;TZID=Europe/Berlin:20260307T220000
LOCATION:Heinrich-Vogel-Str. 3\, 85560 Ebersberg
END:VEVENT
BEGIN:VEVENT
UID:1772b706d99ec355361399f4ec3a7ba7
DTSTAMP:20260421T082925Z
SUMMARY:C1-Liga: Kings & Queens of Harlekin vs. FSC Bierbüffel (Bistro Har
 lekin)
DTSTART;TZID=Europe/Berlin:20260321T150000
DTEND;TZID=Europe/Berlin:20260321T170000
LOCATION:Oefelestr. 21\, 81543 München
END:VEVENT
BEGIN:VEVENT
UID:0a5f59da376fcc8c7c4862b072185e54
DTSTAMP:20260421T082925Z
SUMMARY:C1-Liga: FSC Bierbüffel vs. Pegasus UFG (VH Ebersberg)
DTSTART;TZID=Europe/Berlin:20260411T200000
DTEND;TZID=Europe/Berlin:20260411T220000
LOCATION:Heinrich-Vogel-Str. 3\, 85560 Ebersberg
END:VEVENT
BEGIN:VEVENT
UID:c1e79cb10c05eb08b206c879a423c5fb
DTSTAMP:20260421T082925Z
SUMMARY:C1-Liga: FSC Bierbüffel vs. Harlekins Team Surprise (VH Ebersberg)
DTSTART;TZID=Europe/Berlin:20260418T200000
DTEND;TZID=Europe/Berlin:20260418T220000
LOCATION:Heinrich-Vogel-Str. 3\, 85560 Ebersberg
END:VEVENT
BEGIN:VEVENT
UID:cec7b1b207a744808a42456f93fdc378
DTSTAMP:20260421T082925Z
SUMMARY:C1-Liga: Team Desaster Mädels vs. FSC Bierbüffel (Moosacher Dartc
 lub  e. V.)
DTSTART;TZID=Europe/Berlin:20260425T200000
DTEND;TZID=Europe/Berlin:20260425T220000
LOCATION:Weitlstr. 140\, 80995 München
END:VEVENT
BEGIN:VEVENT
UID:4670fa2cfbb301cb774347ce2bdab383
DTSTAMP:20260421T082925Z
SUMMARY:C1-Liga: FSC Bierbüffel vs. DC Räuber Kneißl (VH Ebersberg)
DTSTART;TZID=Europe/Berlin:20260502T200000
DTEND;TZID=Europe/Berlin:20260502T220000
LOCATION:Heinrich-Vogel-Str. 3\, 85560 Ebersberg
END:VEVENT
BEGIN:VEVENT
UID:b147d7dd02bc18066183a4f630e63dd3
DTSTAMP:20260421T082925Z
SUMMARY:C1-Liga: Jolly Pirates 3 vs. FSC Bierbüffel (Jolly Roger)
DTSTART;TZID=Europe/Berlin:20260516T200000
DTEND;TZID=Europe/Berlin:20260516T220000
LOCATION:Poststr. 2\, 85586 Poing
END:VEVENT
BEGIN:VEVENT
UID:f7775ac872d345ddee0576b5ec106b3f
DTSTAMP:20260421T082925Z
SUMMARY:C1-Liga: FSC Bierbüffel vs. Board Killaz Neubiberg III (VH Ebersbe
 rg)
DTSTART;TZID=Europe/Berlin:20260530T200000
DTEND;TZID=Europe/Berlin:20260530T220000
LOCATION:Heinrich-Vogel-Str. 3\, 85560 Ebersberg
END:VEVENT
BEGIN:VEVENT
UID:df5a16f79e1cd82cb4d5b655ad653baf
DTSTAMP:20260421T082925Z
SUMMARY:C1-Liga: Kneipenterroristen vs. FSC Bierbüffel (RG Bar)
DTSTART;TZID=Europe/Berlin:20260606T200000
DTEND;TZID=Europe/Berlin:20260606T220000
LOCATION:Gleichmannstr. 6\, 81241 München
END:VEVENT
BEGIN:VEVENT
UID:2a1ddbd4b6121c8c207e31a84652a86b
DTSTAMP:20260421T082925Z
SUMMARY:C1-Liga: FSC Bierbüffel vs. Die lustigen Gremlins (VH Ebersberg)
DTSTART;TZID=Europe/Berlin:20260620T200000
DTEND;TZID=Europe/Berlin:20260620T220000
LOCATION:Heinrich-Vogel-Str. 3\, 85560 Ebersberg
END:VEVENT
END:VCALENDAR
