BEGIN:VCALENDAR
PRODID:-//eluceo/ical//2.0/EN
VERSION:2.0
CALSCALE:GREGORIAN
BEGIN:VEVENT
UID:af5b4aba6a4a1f055f67165b04753e59
DTSTAMP:20260421T084841Z
SUMMARY:C1-Liga: Harlekins Team Surprise vs. Kings & Queens of Harlekin (Bi
 stro Harlekin)
DTSTART;TZID=Europe/Berlin:20251010T200000
DTEND;TZID=Europe/Berlin:20251010T220000
LOCATION:Oefelestr. 21\, 81543 München
END:VEVENT
BEGIN:VEVENT
UID:babaac5528aa9870b4eaf72653e0df5f
DTSTAMP:20260421T084841Z
SUMMARY:C1-Liga: Board Killaz Neubiberg III vs. Harlekins Team Surprise (Re
 staurant Minoa)
DTSTART;TZID=Europe/Berlin:20251017T200000
DTEND;TZID=Europe/Berlin:20251017T220000
LOCATION:Zwergerstr. 28\, 85579 Neubiberg
END:VEVENT
BEGIN:VEVENT
UID:738a4278ead7841ee4c8f63ed06d8a29
DTSTAMP:20260421T084841Z
SUMMARY:C1-Liga: Harlekins Team Surprise vs. Pegasus UFG (Bistro Harlekin)
DTSTART;TZID=Europe/Berlin:20251030T200000
DTEND;TZID=Europe/Berlin:20251030T220000
LOCATION:Oefelestr. 21\, 81543 München
END:VEVENT
BEGIN:VEVENT
UID:7b7e563d903a925f362a8a8da0352171
DTSTAMP:20260421T084841Z
SUMMARY:C1-Liga: Kneipenterroristen vs. Harlekins Team Surprise (RG Bar)
DTSTART;TZID=Europe/Berlin:20251107T200000
DTEND;TZID=Europe/Berlin:20251107T220000
LOCATION:Gleichmannstr. 6\, 81241 München
END:VEVENT
BEGIN:VEVENT
UID:73612897f783d545edb8f8673aa38b0c
DTSTAMP:20260421T084841Z
SUMMARY:C1-Liga: Harlekins Team Surprise vs. FSC Bierbüffel (Bistro Harlek
 in)
DTSTART;TZID=Europe/Berlin:20251114T200000
DTEND;TZID=Europe/Berlin:20251114T220000
LOCATION:Oefelestr. 21\, 81543 München
END:VEVENT
BEGIN:VEVENT
UID:d1629e3a14ba706a101b8ec0c18270ea
DTSTAMP:20260421T084841Z
SUMMARY:C1-Liga: Die lustigen Gremlins vs. Harlekins Team Surprise (Tonis W
 irtshaus)
DTSTART;TZID=Europe/Berlin:20260116T200000
DTEND;TZID=Europe/Berlin:20260116T220000
LOCATION:Arnulfstr. 130\, 80634 München
END:VEVENT
BEGIN:VEVENT
UID:741ee79bb40c3ac8a38a6d67bcce4bd8
DTSTAMP:20260421T084841Z
SUMMARY:C1-Liga: Harlekins Team Surprise vs. Team Desaster Mädels (Bistro 
 Harlekin)
DTSTART;TZID=Europe/Berlin:20251205T200000
DTEND;TZID=Europe/Berlin:20251205T220000
LOCATION:Oefelestr. 21\, 81543 München
END:VEVENT
BEGIN:VEVENT
UID:ff7f9facb1fb3f9885d4b728491d38da
DTSTAMP:20260421T084841Z
SUMMARY:C1-Liga: Dorfkinder vs. Harlekins Team Surprise (Dartpub 180)
DTSTART;TZID=Europe/Berlin:20251220T200000
DTEND;TZID=Europe/Berlin:20251220T220000
LOCATION:Ladehofstr. 10-12\, 85540 Haar
END:VEVENT
BEGIN:VEVENT
UID:bf873f13ac159ce8834fd8e29cae8964
DTSTAMP:20260421T084841Z
SUMMARY:C1-Liga: Harlekins Team Surprise vs. DC Räuber Kneißl (Bistro Har
 lekin)
DTSTART;TZID=Europe/Berlin:20260109T200000
DTEND;TZID=Europe/Berlin:20260109T220000
LOCATION:Oefelestr. 21\, 81543 München
END:VEVENT
BEGIN:VEVENT
UID:9c4531e0519be806946b7b7b446a1919
DTSTAMP:20260421T084841Z
SUMMARY:C1-Liga: Speerwerfer 2 vs. Harlekins Team Surprise (Allround Bar)
DTSTART;TZID=Europe/Berlin:20260124T200000
DTEND;TZID=Europe/Berlin:20260124T220000
LOCATION:Rosenheimerstr. 11A\, 85635 Höhenkirchen
END:VEVENT
BEGIN:VEVENT
UID:1bc2168467d6d5c5821b2aba90bab9e9
DTSTAMP:20260421T084841Z
SUMMARY:C1-Liga: Harlekins Team Surprise vs. Jolly Pirates 3 (Bistro Harlek
 in)
DTSTART;TZID=Europe/Berlin:20260206T200000
DTEND;TZID=Europe/Berlin:20260206T220000
LOCATION:Oefelestr. 21\, 81543 München
END:VEVENT
BEGIN:VEVENT
UID:38de857f12eff61923d995ec7cef0437
DTSTAMP:20260421T084841Z
SUMMARY:C1-Liga: Kings & Queens of Harlekin vs. Harlekins Team Surprise (Bi
 stro Harlekin)
DTSTART;TZID=Europe/Berlin:20260228T200000
DTEND;TZID=Europe/Berlin:20260228T220000
LOCATION:Oefelestr. 21\, 81543 München
END:VEVENT
BEGIN:VEVENT
UID:5476d06da16675375e4537bb699bd7ac
DTSTAMP:20260421T084841Z
SUMMARY:C1-Liga: Harlekins Team Surprise vs. Board Killaz Neubiberg III (Bi
 stro Harlekin)
DTSTART;TZID=Europe/Berlin:20260307T150000
DTEND;TZID=Europe/Berlin:20260307T170000
LOCATION:Oefelestr. 21\, 81543 München
END:VEVENT
BEGIN:VEVENT
UID:662a050f531b5b58ef47a0498f16ab21
DTSTAMP:20260421T084841Z
SUMMARY:C1-Liga: Pegasus UFG vs. Harlekins Team Surprise (Vereinsheim FC Un
 terföhring)
DTSTART;TZID=Europe/Berlin:20260321T190000
DTEND;TZID=Europe/Berlin:20260321T210000
LOCATION:Bergstr\, 4a\, 85774 Unterföring
END:VEVENT
BEGIN:VEVENT
UID:9a5d767c8a2a618a0e828f1df6db971f
DTSTAMP:20260421T084841Z
SUMMARY:C1-Liga: Harlekins Team Surprise vs. Kneipenterroristen (Bistro Har
 lekin)
DTSTART;TZID=Europe/Berlin:20260410T200000
DTEND;TZID=Europe/Berlin:20260410T220000
LOCATION:Oefelestr. 21\, 81543 München
END:VEVENT
BEGIN:VEVENT
UID:12e750dbcdb185c8c2f5df10bcd798af
DTSTAMP:20260421T084841Z
SUMMARY:C1-Liga: FSC Bierbüffel vs. Harlekins Team Surprise (VH Ebersberg)
DTSTART;TZID=Europe/Berlin:20260418T200000
DTEND;TZID=Europe/Berlin:20260418T220000
LOCATION:Heinrich-Vogel-Str. 3\, 85560 Ebersberg
END:VEVENT
BEGIN:VEVENT
UID:28e3529c93a01ada46d62c2fa9f0e91f
DTSTAMP:20260421T084841Z
SUMMARY:C1-Liga: Harlekins Team Surprise vs. Die lustigen Gremlins (Bistro 
 Harlekin)
DTSTART;TZID=Europe/Berlin:20260426T160000
DTEND;TZID=Europe/Berlin:20260426T180000
LOCATION:Oefelestr. 21\, 81543 München
END:VEVENT
BEGIN:VEVENT
UID:d50349a064d3b239eb64c23c3c836d4c
DTSTAMP:20260421T084841Z
SUMMARY:C1-Liga: Team Desaster Mädels vs. Harlekins Team Surprise (Moosach
 er Dartclub  e. V.)
DTSTART;TZID=Europe/Berlin:20260502T200000
DTEND;TZID=Europe/Berlin:20260502T220000
LOCATION:Weitlstr. 140\, 80995 München
END:VEVENT
BEGIN:VEVENT
UID:a9a92a4cb3192deeb22ea639cfb42243
DTSTAMP:20260421T084841Z
SUMMARY:C1-Liga: Harlekins Team Surprise vs. Dorfkinder (Bistro Harlekin)
DTSTART;TZID=Europe/Berlin:20260516T150000
DTEND;TZID=Europe/Berlin:20260516T170000
LOCATION:Oefelestr. 21\, 81543 München
END:VEVENT
BEGIN:VEVENT
UID:479f6b1d0cc0b9c2e07f4543725b133c
DTSTAMP:20260421T084841Z
SUMMARY:C1-Liga: DC Räuber Kneißl vs. Harlekins Team Surprise (Kegelbahn 
 DC Wahnsinn)
DTSTART;TZID=Europe/Berlin:20260530T200000
DTEND;TZID=Europe/Berlin:20260530T220000
LOCATION:Stresemannstr. 17\, 85221 Dachau
END:VEVENT
BEGIN:VEVENT
UID:4e37a94df758770f04647988269d3df0
DTSTAMP:20260421T084841Z
SUMMARY:C1-Liga: Harlekins Team Surprise vs. Speerwerfer 2 (Bistro Harlekin
 )
DTSTART;TZID=Europe/Berlin:20260606T200000
DTEND;TZID=Europe/Berlin:20260606T220000
LOCATION:Oefelestr. 21\, 81543 München
END:VEVENT
BEGIN:VEVENT
UID:6dc9f751ba535cf5d03a097b7b6d9445
DTSTAMP:20260421T084841Z
SUMMARY:C1-Liga: Jolly Pirates 3 vs. Harlekins Team Surprise (Jolly Roger)
DTSTART;TZID=Europe/Berlin:20260620T200000
DTEND;TZID=Europe/Berlin:20260620T220000
LOCATION:Poststr. 2\, 85586 Poing
END:VEVENT
END:VCALENDAR
