BEGIN:VCALENDAR
PRODID:-//eluceo/ical//2.0/EN
VERSION:2.0
CALSCALE:GREGORIAN
BEGIN:VEVENT
UID:506c8bfb2ce50b6f371186803b33e96a
DTSTAMP:20260421T123522Z
SUMMARY:C1-Liga: Jolly Pirates 3 vs. Board Killaz Neubiberg III (Jolly Roge
 r)
DTSTART;TZID=Europe/Berlin:20251010T203000
DTEND;TZID=Europe/Berlin:20251010T223000
LOCATION:Poststr. 2\, 85586 Poing
END:VEVENT
BEGIN:VEVENT
UID:1216a51955871d1b908b224ab5684924
DTSTAMP:20260421T123522Z
SUMMARY:C1-Liga: Board Killaz Neubiberg III vs. Harlekins Team Surprise (Re
 staurant Minoa)
DTSTART;TZID=Europe/Berlin:20251017T200000
DTEND;TZID=Europe/Berlin:20251017T220000
LOCATION:Zwergerstr. 28\, 85579 Neubiberg
END:VEVENT
BEGIN:VEVENT
UID:73c8894f8fe84df6f03edcf1106cdaec
DTSTAMP:20260421T123522Z
SUMMARY:C1-Liga: Board Killaz Neubiberg III vs. Kneipenterroristen (Restaur
 ant Minoa)
DTSTART;TZID=Europe/Berlin:20251024T200000
DTEND;TZID=Europe/Berlin:20251024T220000
LOCATION:Zwergerstr. 28\, 85579 Neubiberg
END:VEVENT
BEGIN:VEVENT
UID:0fa23567ccabe2b38598fd288d689f6b
DTSTAMP:20260421T123522Z
SUMMARY:C1-Liga: Die lustigen Gremlins vs. Board Killaz Neubiberg III (Toni
 s Wirtshaus)
DTSTART;TZID=Europe/Berlin:20251108T200000
DTEND;TZID=Europe/Berlin:20251108T220000
LOCATION:Arnulfstr. 130\, 80634 München
END:VEVENT
BEGIN:VEVENT
UID:809e85b2eb20c61fd5053e2dd8625580
DTSTAMP:20260421T123522Z
SUMMARY:C1-Liga: Board Killaz Neubiberg III vs. Dorfkinder (Restaurant Mino
 a)
DTSTART;TZID=Europe/Berlin:20251114T200000
DTEND;TZID=Europe/Berlin:20251114T220000
LOCATION:Zwergerstr. 28\, 85579 Neubiberg
END:VEVENT
BEGIN:VEVENT
UID:2232026af2a79a5f34cb1d35c8a3b4f6
DTSTAMP:20260421T123522Z
SUMMARY:C1-Liga: Speerwerfer 2 vs. Board Killaz Neubiberg III (Allround Bar
 )
DTSTART;TZID=Europe/Berlin:20251122T200000
DTEND;TZID=Europe/Berlin:20251122T220000
LOCATION:Rosenheimerstr. 11A\, 85635 Höhenkirchen
END:VEVENT
BEGIN:VEVENT
UID:ee06fb6f76fa0466239c0d97e4390c6c
DTSTAMP:20260421T123522Z
SUMMARY:C1-Liga: Board Killaz Neubiberg III vs. Kings & Queens of Harlekin 
 (Restaurant Minoa)
DTSTART;TZID=Europe/Berlin:20251205T200000
DTEND;TZID=Europe/Berlin:20251205T220000
LOCATION:Zwergerstr. 28\, 85579 Neubiberg
END:VEVENT
BEGIN:VEVENT
UID:2b9571353b492f79ce23ce79e32b3627
DTSTAMP:20260421T123522Z
SUMMARY:C1-Liga: Pegasus UFG vs. Board Killaz Neubiberg III (Vereinsheim FC
  Unterföhring)
DTSTART;TZID=Europe/Berlin:20251220T190000
DTEND;TZID=Europe/Berlin:20251220T210000
LOCATION:Bergstr\, 4a\, 85774 Unterföring
END:VEVENT
BEGIN:VEVENT
UID:2255649f135b7fe2a5cf59628b2de583
DTSTAMP:20260421T123522Z
SUMMARY:C1-Liga: Board Killaz Neubiberg III vs. FSC Bierbüffel (Restaurant
  Minoa)
DTSTART;TZID=Europe/Berlin:20260109T200000
DTEND;TZID=Europe/Berlin:20260109T220000
LOCATION:Zwergerstr. 28\, 85579 Neubiberg
END:VEVENT
BEGIN:VEVENT
UID:5f8855e6ff08a633d65b6dc28c8f6292
DTSTAMP:20260421T123522Z
SUMMARY:C1-Liga: Team Desaster Mädels vs. Board Killaz Neubiberg III (Moos
 acher Dartclub  e. V.)
DTSTART;TZID=Europe/Berlin:20260123T200000
DTEND;TZID=Europe/Berlin:20260123T220000
LOCATION:Weitlstr. 140\, 80995 München
END:VEVENT
BEGIN:VEVENT
UID:ec40d433a4b1e2ef0b7dc8483d9c5c4d
DTSTAMP:20260421T123522Z
SUMMARY:C1-Liga: DC Räuber Kneißl vs. Board Killaz Neubiberg III (Kegelba
 hn DC Wahnsinn)
DTSTART;TZID=Europe/Berlin:20260207T200000
DTEND;TZID=Europe/Berlin:20260207T220000
LOCATION:Stresemannstr. 17\, 85221 Dachau
END:VEVENT
BEGIN:VEVENT
UID:2f7e3eb61f6180e858b6f79b5a45e952
DTSTAMP:20260421T123522Z
SUMMARY:C1-Liga: Board Killaz Neubiberg III vs. Jolly Pirates 3 (Restaurant
  Minoa)
DTSTART;TZID=Europe/Berlin:20260227T200000
DTEND;TZID=Europe/Berlin:20260227T220000
LOCATION:Zwergerstr. 28\, 85579 Neubiberg
END:VEVENT
BEGIN:VEVENT
UID:252bd22839ebd5ac592c0e0bb13b2d28
DTSTAMP:20260421T123522Z
SUMMARY:C1-Liga: Harlekins Team Surprise vs. Board Killaz Neubiberg III (Bi
 stro Harlekin)
DTSTART;TZID=Europe/Berlin:20260307T150000
DTEND;TZID=Europe/Berlin:20260307T170000
LOCATION:Oefelestr. 21\, 81543 München
END:VEVENT
BEGIN:VEVENT
UID:ed69b6c7dcd962ea35d4ed4dd440075a
DTSTAMP:20260421T123522Z
SUMMARY:C1-Liga: Kneipenterroristen vs. Board Killaz Neubiberg III (RG Bar)
DTSTART;TZID=Europe/Berlin:20260321T140000
DTEND;TZID=Europe/Berlin:20260321T160000
LOCATION:Gleichmannstr. 6\, 81241 München
END:VEVENT
BEGIN:VEVENT
UID:81b399052cc3ba707450cbac5f032d28
DTSTAMP:20260421T123522Z
SUMMARY:C1-Liga: Board Killaz Neubiberg III vs. Die lustigen Gremlins (Rest
 aurant Minoa)
DTSTART;TZID=Europe/Berlin:20260410T200000
DTEND;TZID=Europe/Berlin:20260410T220000
LOCATION:Zwergerstr. 28\, 85579 Neubiberg
END:VEVENT
BEGIN:VEVENT
UID:0fe4df1c9419fe6618a467928de117cf
DTSTAMP:20260421T123522Z
SUMMARY:C1-Liga: Dorfkinder vs. Board Killaz Neubiberg III (Dartpub 180)
DTSTART;TZID=Europe/Berlin:20260417T200000
DTEND;TZID=Europe/Berlin:20260417T220000
LOCATION:Ladehofstr. 10-12\, 85540 Haar
END:VEVENT
BEGIN:VEVENT
UID:8bbbfc9e6ac687c1cb8f72d9a2da735d
DTSTAMP:20260421T123522Z
SUMMARY:C1-Liga: Board Killaz Neubiberg III vs. Speerwerfer 2 (Restaurant M
 inoa)
DTSTART;TZID=Europe/Berlin:20260425T200000
DTEND;TZID=Europe/Berlin:20260425T220000
LOCATION:Zwergerstr. 28\, 85579 Neubiberg
END:VEVENT
BEGIN:VEVENT
UID:6875be5ca7e8275d51129f83c99f4dc4
DTSTAMP:20260421T123522Z
SUMMARY:C1-Liga: Kings & Queens of Harlekin vs. Board Killaz Neubiberg III 
 (Bistro Harlekin)
DTSTART;TZID=Europe/Berlin:20260502T200000
DTEND;TZID=Europe/Berlin:20260502T220000
LOCATION:Oefelestr. 21\, 81543 München
END:VEVENT
BEGIN:VEVENT
UID:b9ea8c22ca55cd656ba6e385bd3af31d
DTSTAMP:20260421T123522Z
SUMMARY:C1-Liga: Board Killaz Neubiberg III vs. Pegasus UFG (Restaurant Min
 oa)
DTSTART;TZID=Europe/Berlin:20260515T200000
DTEND;TZID=Europe/Berlin:20260515T220000
LOCATION:Zwergerstr. 28\, 85579 Neubiberg
END:VEVENT
BEGIN:VEVENT
UID:66def6a208d1fe73079ed6ca54f51bf4
DTSTAMP:20260421T123522Z
SUMMARY:C1-Liga: FSC Bierbüffel vs. Board Killaz Neubiberg III (VH Ebersbe
 rg)
DTSTART;TZID=Europe/Berlin:20260530T200000
DTEND;TZID=Europe/Berlin:20260530T220000
LOCATION:Heinrich-Vogel-Str. 3\, 85560 Ebersberg
END:VEVENT
BEGIN:VEVENT
UID:c7454a33019e2592908cd6c1d2b3084d
DTSTAMP:20260421T123522Z
SUMMARY:C1-Liga: Board Killaz Neubiberg III vs. Team Desaster Mädels (Rest
 aurant Minoa)
DTSTART;TZID=Europe/Berlin:20260605T200000
DTEND;TZID=Europe/Berlin:20260605T220000
LOCATION:Zwergerstr. 28\, 85579 Neubiberg
END:VEVENT
BEGIN:VEVENT
UID:e9ab6808830df66476ec19cb9431cf09
DTSTAMP:20260421T123522Z
SUMMARY:C1-Liga: Board Killaz Neubiberg III vs. DC Räuber Kneißl (Restaur
 ant Minoa)
DTSTART;TZID=Europe/Berlin:20260620T200000
DTEND;TZID=Europe/Berlin:20260620T220000
LOCATION:Zwergerstr. 28\, 85579 Neubiberg
END:VEVENT
END:VCALENDAR
