BEGIN:VCALENDAR
PRODID:-//eluceo/ical//2.0/EN
VERSION:2.0
CALSCALE:GREGORIAN
BEGIN:VEVENT
UID:c421d0844da5aed9d5886c3618621c0a
DTSTAMP:20260421T084816Z
SUMMARY:C1-Liga: Harlekins Team Surprise vs. Kings & Queens of Harlekin (Bi
 stro Harlekin)
DTSTART;TZID=Europe/Berlin:20251010T200000
DTEND;TZID=Europe/Berlin:20251010T220000
LOCATION:Oefelestr. 21\, 81543 München
END:VEVENT
BEGIN:VEVENT
UID:b999a800ce5e07cb1351b81a4546f2cc
DTSTAMP:20260421T084816Z
SUMMARY:C1-Liga: Kings & Queens of Harlekin vs. Pegasus UFG (Bistro Harleki
 n)
DTSTART;TZID=Europe/Berlin:20251102T200000
DTEND;TZID=Europe/Berlin:20251102T220000
LOCATION:Oefelestr. 21\, 81543 München
END:VEVENT
BEGIN:VEVENT
UID:7a569e26e83cdcdb531cbe63869fcfc7
DTSTAMP:20260421T084816Z
SUMMARY:C1-Liga: FSC Bierbüffel vs. Kings & Queens of Harlekin (VH Ebersbe
 rg)
DTSTART;TZID=Europe/Berlin:20251025T200000
DTEND;TZID=Europe/Berlin:20251025T220000
LOCATION:Heinrich-Vogel-Str. 3\, 85560 Ebersberg
END:VEVENT
BEGIN:VEVENT
UID:aab9e48dc898d6b0a729d15089c2c395
DTSTAMP:20260421T084816Z
SUMMARY:C1-Liga: Kings & Queens of Harlekin vs. Team Desaster Mädels (Bist
 ro Harlekin)
DTSTART;TZID=Europe/Berlin:20251107T200000
DTEND;TZID=Europe/Berlin:20251107T220000
LOCATION:Oefelestr. 21\, 81543 München
END:VEVENT
BEGIN:VEVENT
UID:884ba05577c3bd330cce747745c37b6c
DTSTAMP:20260421T084816Z
SUMMARY:C1-Liga: DC Räuber Kneißl vs. Kings & Queens of Harlekin (Kegelba
 hn DC Wahnsinn)
DTSTART;TZID=Europe/Berlin:20251115T200000
DTEND;TZID=Europe/Berlin:20251115T220000
LOCATION:Stresemannstr. 17\, 85221 Dachau
END:VEVENT
BEGIN:VEVENT
UID:3c7f896323272470ab88556e71df7965
DTSTAMP:20260421T084816Z
SUMMARY:C1-Liga: Kings & Queens of Harlekin vs. Jolly Pirates 3 (Bistro Har
 lekin)
DTSTART;TZID=Europe/Berlin:20251122T200000
DTEND;TZID=Europe/Berlin:20251122T220000
LOCATION:Oefelestr. 21\, 81543 München
END:VEVENT
BEGIN:VEVENT
UID:f1f6a9b6750bcad9c660714f00e1768f
DTSTAMP:20260421T084816Z
SUMMARY:C1-Liga: Board Killaz Neubiberg III vs. Kings & Queens of Harlekin 
 (Restaurant Minoa)
DTSTART;TZID=Europe/Berlin:20251205T200000
DTEND;TZID=Europe/Berlin:20251205T220000
LOCATION:Zwergerstr. 28\, 85579 Neubiberg
END:VEVENT
BEGIN:VEVENT
UID:dafee1af1fde3500aed967e0bcdd3b7b
DTSTAMP:20260421T084816Z
SUMMARY:C1-Liga: Kings & Queens of Harlekin vs. Kneipenterroristen (Bistro 
 Harlekin)
DTSTART;TZID=Europe/Berlin:20251219T200000
DTEND;TZID=Europe/Berlin:20251219T220000
LOCATION:Oefelestr. 21\, 81543 München
END:VEVENT
BEGIN:VEVENT
UID:b1edb5249a0ae6eaa1dbe7562e9fa2ac
DTSTAMP:20260421T084816Z
SUMMARY:C1-Liga: Die lustigen Gremlins vs. Kings & Queens of Harlekin (Toni
 s Wirtshaus)
DTSTART;TZID=Europe/Berlin:20260110T200000
DTEND;TZID=Europe/Berlin:20260110T220000
LOCATION:Arnulfstr. 130\, 80634 München
END:VEVENT
BEGIN:VEVENT
UID:bd2b9bf04f5ed4943d8af11cbe57d68a
DTSTAMP:20260421T084816Z
SUMMARY:C1-Liga: Kings & Queens of Harlekin vs. Dorfkinder (Bistro Harlekin
 )
DTSTART;TZID=Europe/Berlin:20260131T200000
DTEND;TZID=Europe/Berlin:20260131T220000
LOCATION:Oefelestr. 21\, 81543 München
END:VEVENT
BEGIN:VEVENT
UID:9f869f424569756f47d0d41112df73ee
DTSTAMP:20260421T084816Z
SUMMARY:C1-Liga: Speerwerfer 2 vs. Kings & Queens of Harlekin (Allround Bar
 )
DTSTART;TZID=Europe/Berlin:20260206T200000
DTEND;TZID=Europe/Berlin:20260206T220000
LOCATION:Rosenheimerstr. 11A\, 85635 Höhenkirchen
END:VEVENT
BEGIN:VEVENT
UID:f12978e7c2a73a4956f13d5beda39366
DTSTAMP:20260421T084816Z
SUMMARY:C1-Liga: Kings & Queens of Harlekin vs. Harlekins Team Surprise (Bi
 stro Harlekin)
DTSTART;TZID=Europe/Berlin:20260228T200000
DTEND;TZID=Europe/Berlin:20260228T220000
LOCATION:Oefelestr. 21\, 81543 München
END:VEVENT
BEGIN:VEVENT
UID:f7a5e50c7c41252ef666e928911bd9fb
DTSTAMP:20260421T084816Z
SUMMARY:C1-Liga: Pegasus UFG vs. Kings & Queens of Harlekin (Vereinsheim FC
  Unterföhring)
DTSTART;TZID=Europe/Berlin:20260307T190000
DTEND;TZID=Europe/Berlin:20260307T210000
LOCATION:Bergstr\, 4a\, 85774 Unterföring
END:VEVENT
BEGIN:VEVENT
UID:dc508feadc7873f2ac57d2d1ce6515ac
DTSTAMP:20260421T084816Z
SUMMARY:C1-Liga: Kings & Queens of Harlekin vs. FSC Bierbüffel (Bistro Har
 lekin)
DTSTART;TZID=Europe/Berlin:20260321T150000
DTEND;TZID=Europe/Berlin:20260321T170000
LOCATION:Oefelestr. 21\, 81543 München
END:VEVENT
BEGIN:VEVENT
UID:b82c3653649d0ac86a10f1cf6e6e8398
DTSTAMP:20260421T084816Z
SUMMARY:C1-Liga: Team Desaster Mädels vs. Kings & Queens of Harlekin (Moos
 acher Dartclub  e. V.)
DTSTART;TZID=Europe/Berlin:20260410T200000
DTEND;TZID=Europe/Berlin:20260410T220000
LOCATION:Weitlstr. 140\, 80995 München
END:VEVENT
BEGIN:VEVENT
UID:4a85adc41a4e192849537987a5e2fc08
DTSTAMP:20260421T084816Z
SUMMARY:C1-Liga: Kings & Queens of Harlekin vs. DC Räuber Kneißl (Bistro 
 Harlekin)
DTSTART;TZID=Europe/Berlin:20260417T200000
DTEND;TZID=Europe/Berlin:20260417T220000
LOCATION:Oefelestr. 21\, 81543 München
END:VEVENT
BEGIN:VEVENT
UID:435effc28b33b61ec402e07edb2cb0a0
DTSTAMP:20260421T084816Z
SUMMARY:C1-Liga: Jolly Pirates 3 vs. Kings & Queens of Harlekin (Jolly Roge
 r)
DTSTART;TZID=Europe/Berlin:20260403T200000
DTEND;TZID=Europe/Berlin:20260403T220000
LOCATION:Poststr. 2\, 85586 Poing
END:VEVENT
BEGIN:VEVENT
UID:a99d5843202937159ee8baf7ca78a988
DTSTAMP:20260421T084816Z
SUMMARY:C1-Liga: Kings & Queens of Harlekin vs. Board Killaz Neubiberg III 
 (Bistro Harlekin)
DTSTART;TZID=Europe/Berlin:20260502T200000
DTEND;TZID=Europe/Berlin:20260502T220000
LOCATION:Oefelestr. 21\, 81543 München
END:VEVENT
BEGIN:VEVENT
UID:b72440ec08448b8f4cf725814238428b
DTSTAMP:20260421T084816Z
SUMMARY:C1-Liga: Kneipenterroristen vs. Kings & Queens of Harlekin (RG Bar)
DTSTART;TZID=Europe/Berlin:20260516T200000
DTEND;TZID=Europe/Berlin:20260516T220000
LOCATION:Gleichmannstr. 6\, 81241 München
END:VEVENT
BEGIN:VEVENT
UID:770b73d13a8d882263c23dd66c0c51d9
DTSTAMP:20260421T084816Z
SUMMARY:C1-Liga: Kings & Queens of Harlekin vs. Die lustigen Gremlins (Bist
 ro Harlekin)
DTSTART;TZID=Europe/Berlin:20260529T200000
DTEND;TZID=Europe/Berlin:20260529T220000
LOCATION:Oefelestr. 21\, 81543 München
END:VEVENT
BEGIN:VEVENT
UID:12bb1c433bdb017559d45c2ab6a80875
DTSTAMP:20260421T084816Z
SUMMARY:C1-Liga: Dorfkinder vs. Kings & Queens of Harlekin (Dartpub 180)
DTSTART;TZID=Europe/Berlin:20260605T200000
DTEND;TZID=Europe/Berlin:20260605T220000
LOCATION:Ladehofstr. 10-12\, 85540 Haar
END:VEVENT
BEGIN:VEVENT
UID:e189aa0680e40d49ed4b8a4b20366fd2
DTSTAMP:20260421T084816Z
SUMMARY:C1-Liga: Kings & Queens of Harlekin vs. Speerwerfer 2 (Bistro Harle
 kin)
DTSTART;TZID=Europe/Berlin:20260620T200000
DTEND;TZID=Europe/Berlin:20260620T220000
LOCATION:Oefelestr. 21\, 81543 München
END:VEVENT
END:VCALENDAR
