BEGIN:VCALENDAR
PRODID:-//eluceo/ical//2.0/EN
VERSION:2.0
CALSCALE:GREGORIAN
BEGIN:VEVENT
UID:a933c2bb32de7757f30f1778b4c48d66
DTSTAMP:20260420T082920Z
SUMMARY:A1-Liga: Bavarian Bastards vs. DC Unlimited (V4)
DTSTART;TZID=Europe/Berlin:20241012T203000
DTEND;TZID=Europe/Berlin:20241012T223000
LOCATION:Mainburgerstr. 36\, 84072 Au/Hallertau
END:VEVENT
BEGIN:VEVENT
UID:7e0dd127aeea4f01d62c4e22ffa4a301
DTSTAMP:20260420T082920Z
SUMMARY:A1-Liga: Die Harlekin Maschinen vs. Bavarian Bastards (Bistro Harle
 kin)
DTSTART;TZID=Europe/Berlin:20241018T200000
DTEND;TZID=Europe/Berlin:20241018T220000
LOCATION:Oefelestr. 21\, 81543 München
END:VEVENT
BEGIN:VEVENT
UID:94448fbaa9dadf3eaf9d49214428889c
DTSTAMP:20260420T082920Z
SUMMARY:A1-Liga: DC Legendary vs. Bavarian Bastards (Legendary)
DTSTART;TZID=Europe/Berlin:20241026T200000
DTEND;TZID=Europe/Berlin:20241026T220000
LOCATION:Kurfürstenstr. 11\, 80799 München
END:VEVENT
BEGIN:VEVENT
UID:ee19e197288d6f6be256f03554262fb7
DTSTAMP:20260420T082920Z
SUMMARY:A1-Liga: Jolly Pirates 2 vs. Bavarian Bastards (Jolly Roger)
DTSTART;TZID=Europe/Berlin:20241115T200000
DTEND;TZID=Europe/Berlin:20241115T220000
LOCATION:Poststr. 2\, 85586 Poing
END:VEVENT
BEGIN:VEVENT
UID:4891e8d1f4155657b7a958f7af01f512
DTSTAMP:20260420T082920Z
SUMMARY:A1-Liga: Bavarian Bastards vs. Jolly´s Gladiators (V4)
DTSTART;TZID=Europe/Berlin:20241108T200000
DTEND;TZID=Europe/Berlin:20241108T220000
LOCATION:Mainburgerstr. 36\, 84072 Au/Hallertau
END:VEVENT
BEGIN:VEVENT
UID:a2bc3dbbdf516ef54eae32a5fff9ecd8
DTSTAMP:20260420T082920Z
SUMMARY:A1-Liga: Harlekins Heaven & Hell vs. Bavarian Bastards (Bistro Harl
 ekin)
DTSTART;TZID=Europe/Berlin:20241122T200000
DTEND;TZID=Europe/Berlin:20241122T220000
LOCATION:Oefelestr. 21\, 81543 München
END:VEVENT
BEGIN:VEVENT
UID:443fc9050a3eefc6a78d03e397146435
DTSTAMP:20260420T082920Z
SUMMARY:A1-Liga: Jolly Pirates 1 vs. Bavarian Bastards (Jolly Roger)
DTSTART;TZID=Europe/Berlin:20241130T200000
DTEND;TZID=Europe/Berlin:20241130T220000
LOCATION:Poststr. 2\, 85586 Poing
END:VEVENT
BEGIN:VEVENT
UID:f9ef8a6c4b77085e2673a5f443384e8e
DTSTAMP:20260420T082920Z
SUMMARY:A1-Liga: DC Animals vs. Bavarian Bastards (Kegelkeller Grafing)
DTSTART;TZID=Europe/Berlin:20241214T203000
DTEND;TZID=Europe/Berlin:20241214T223000
LOCATION:Lederergasse 6\, 85567 Grafing
END:VEVENT
BEGIN:VEVENT
UID:e56ade9041abfdfa9d6b56efa252608a
DTSTAMP:20260420T082920Z
SUMMARY:A1-Liga: Spartans 2 vs. Bavarian Bastards (Spartans Dart Pub)
DTSTART;TZID=Europe/Berlin:20241220T200000
DTEND;TZID=Europe/Berlin:20241220T220000
LOCATION:Korbinianstr. 61\, 80807 München
END:VEVENT
BEGIN:VEVENT
UID:f4a94c50262cda353f49e344c91ab0bd
DTSTAMP:20260420T082920Z
SUMMARY:A1-Liga: Die Flintstones vs. Bavarian Bastards (Lumis Cocktailbar)
DTSTART;TZID=Europe/Berlin:20250517T200000
DTEND;TZID=Europe/Berlin:20250517T220000
LOCATION:Bodenseestr. 19\, 81241 München
END:VEVENT
BEGIN:VEVENT
UID:05e19d3d03276c0d5a392e934f011624
DTSTAMP:20260420T082920Z
SUMMARY:A1-Liga: il "Lumis" nati vs. Bavarian Bastards (RG Bar)
DTSTART;TZID=Europe/Berlin:20250125T200000
DTEND;TZID=Europe/Berlin:20250125T220000
LOCATION:Gleichmannstr. 6\, 81241 München
END:VEVENT
BEGIN:VEVENT
UID:cff981b7e306e1c6abceca9b615a5251
DTSTAMP:20260420T082920Z
SUMMARY:A1-Liga: Bavarian Bastards vs. Bulls-Eye-Predator 1 (V4)
DTSTART;TZID=Europe/Berlin:20250208T200000
DTEND;TZID=Europe/Berlin:20250208T220000
LOCATION:Mainburgerstr. 36\, 84072 Au/Hallertau
END:VEVENT
BEGIN:VEVENT
UID:8aa3d4687687d36ebfa435340d4aba26
DTSTAMP:20260420T082920Z
SUMMARY:A1-Liga: The Scorpions vs. Bavarian Bastards (Golden 777)
DTSTART;TZID=Europe/Berlin:20250215T203000
DTEND;TZID=Europe/Berlin:20250215T223000
LOCATION:Industriestr. 17\, 82256 Fürstenfeldbruck
END:VEVENT
BEGIN:VEVENT
UID:4bbcf0389f36fd7d76f3e9a6fe7e428a
DTSTAMP:20260420T082920Z
SUMMARY:A1-Liga: DC Unlimited vs. Bavarian Bastards (Clash)
DTSTART;TZID=Europe/Berlin:20250228T200000
DTEND;TZID=Europe/Berlin:20250228T220000
LOCATION:Industriestr. 11a\, 82110 Germering
END:VEVENT
BEGIN:VEVENT
UID:cc280f83edcc5f168013b78561b20e6c
DTSTAMP:20260420T082920Z
SUMMARY:A1-Liga: Bavarian Bastards vs. DC Legendary (V4)
DTSTART;TZID=Europe/Berlin:20250322T200000
DTEND;TZID=Europe/Berlin:20250322T220000
LOCATION:Mainburgerstr. 36\, 84072 Au/Hallertau
END:VEVENT
BEGIN:VEVENT
UID:319c1c4a95babc9c6b8559721ee8fa5e
DTSTAMP:20260420T082920Z
SUMMARY:A1-Liga: Jolly´s Gladiators vs. Bavarian Bastards (Jolly Roger)
DTSTART;TZID=Europe/Berlin:20250531T200000
DTEND;TZID=Europe/Berlin:20250531T220000
LOCATION:Poststr. 2\, 85586 Poing
END:VEVENT
BEGIN:VEVENT
UID:cf403dbb7c27cf13ac65aa4ee1d37d71
DTSTAMP:20260420T082920Z
SUMMARY:A1-Liga: Bavarian Bastards vs. Harlekins Heaven & Hell (V4)
DTSTART;TZID=Europe/Berlin:20250411T200000
DTEND;TZID=Europe/Berlin:20250411T220000
LOCATION:Mainburgerstr. 36\, 84072 Au/Hallertau
END:VEVENT
BEGIN:VEVENT
UID:501cce80f84110441ed76c44695187e5
DTSTAMP:20260420T082920Z
SUMMARY:A1-Liga: Bavarian Bastards vs. Jolly Pirates 1 (V4)
DTSTART;TZID=Europe/Berlin:20250425T200000
DTEND;TZID=Europe/Berlin:20250425T220000
LOCATION:Mainburgerstr. 36\, 84072 Au/Hallertau
END:VEVENT
BEGIN:VEVENT
UID:9219f27e9ec31c4ae66b91185d6b8ef7
DTSTAMP:20260420T082920Z
SUMMARY:A1-Liga: Bavarian Bastards vs. DC Animals (V4)
DTSTART;TZID=Europe/Berlin:20250503T210000
DTEND;TZID=Europe/Berlin:20250503T230000
LOCATION:Mainburgerstr. 36\, 84072 Au/Hallertau
END:VEVENT
BEGIN:VEVENT
UID:0b2df7515761927eb744a2b4ec6e6f36
DTSTAMP:20260420T082920Z
SUMMARY:A1-Liga: Bavarian Bastards vs. Die Flintstones (V4)
DTSTART;TZID=Europe/Berlin:20250118T200000
DTEND;TZID=Europe/Berlin:20250118T220000
LOCATION:Mainburgerstr. 36\, 84072 Au/Hallertau
END:VEVENT
BEGIN:VEVENT
UID:0a13b3e80995c5aae572c84f7f355647
DTSTAMP:20260420T082920Z
SUMMARY:A1-Liga: Bavarian Bastards vs. il "Lumis" nati (V4)
DTSTART;TZID=Europe/Berlin:20250529T200000
DTEND;TZID=Europe/Berlin:20250529T220000
LOCATION:Mainburgerstr. 36\, 84072 Au/Hallertau
END:VEVENT
BEGIN:VEVENT
UID:34b88d5fc201a79d4451366f377de598
DTSTAMP:20260420T082920Z
SUMMARY:A1-Liga: Bulls-Eye-Predator 1 vs. Bavarian Bastards (Happy Billard)
DTSTART;TZID=Europe/Berlin:20250614T200000
DTEND;TZID=Europe/Berlin:20250614T220000
LOCATION:Fraunhoferstr. 6\, 82152 Martinsried
END:VEVENT
BEGIN:VEVENT
UID:98a03bdcbfb348ab5cb0dbda260d1468
DTSTAMP:20260420T082920Z
SUMMARY:A1-Liga: Bavarian Bastards vs. The Scorpions (V4)
DTSTART;TZID=Europe/Berlin:20250621T200000
DTEND;TZID=Europe/Berlin:20250621T220000
LOCATION:Mainburgerstr. 36\, 84072 Au/Hallertau
END:VEVENT
END:VCALENDAR
