BEGIN:VCALENDAR
PRODID:-//eluceo/ical//2.0/EN
VERSION:2.0
CALSCALE:GREGORIAN
BEGIN:VEVENT
UID:a5de2444d41ee3cae57f576c2fdfb9f5
DTSTAMP:20260420T082803Z
SUMMARY:A1-Liga: Jolly Pirates 1 vs. Jolly Pirates 2 (Jolly Roger)
DTSTART;TZID=Europe/Berlin:20241011T200000
DTEND;TZID=Europe/Berlin:20241011T220000
LOCATION:Poststr. 2\, 85586 Poing
END:VEVENT
BEGIN:VEVENT
UID:35460195e0ff77af7559b0128357fa20
DTSTAMP:20260420T082803Z
SUMMARY:A1-Liga: il "Lumis" nati vs. Jolly Pirates 1 (RG Bar)
DTSTART;TZID=Europe/Berlin:20241019T200000
DTEND;TZID=Europe/Berlin:20241019T220000
LOCATION:Gleichmannstr. 6\, 81241 München
END:VEVENT
BEGIN:VEVENT
UID:c99ec67c715a13933cf0b981f24fc540
DTSTAMP:20260420T082803Z
SUMMARY:A1-Liga: Bulls-Eye-Predator 1 vs. Jolly Pirates 1 (Happy Billard)
DTSTART;TZID=Europe/Berlin:20241102T200000
DTEND;TZID=Europe/Berlin:20241102T220000
LOCATION:Fraunhoferstr. 6\, 82152 Martinsried
END:VEVENT
BEGIN:VEVENT
UID:d01c931432652e0390410342fea64924
DTSTAMP:20260420T082803Z
SUMMARY:A1-Liga: Jolly Pirates 1 vs. Harlekins Heaven & Hell (Jolly Roger)
DTSTART;TZID=Europe/Berlin:20241108T200000
DTEND;TZID=Europe/Berlin:20241108T220000
LOCATION:Poststr. 2\, 85586 Poing
END:VEVENT
BEGIN:VEVENT
UID:5c2e273063bd6306f86692478cd67cfa
DTSTAMP:20260420T082803Z
SUMMARY:A1-Liga: The Scorpions vs. Jolly Pirates 1 (Golden 777)
DTSTART;TZID=Europe/Berlin:20241122T200000
DTEND;TZID=Europe/Berlin:20241122T220000
LOCATION:Industriestr. 17\, 82256 Fürstenfeldbruck
END:VEVENT
BEGIN:VEVENT
UID:ebd728c721bebc20c0f0f9d2ba99d332
DTSTAMP:20260420T082803Z
SUMMARY:A1-Liga: Jolly Pirates 1 vs. Bavarian Bastards (Jolly Roger)
DTSTART;TZID=Europe/Berlin:20241130T200000
DTEND;TZID=Europe/Berlin:20241130T220000
LOCATION:Poststr. 2\, 85586 Poing
END:VEVENT
BEGIN:VEVENT
UID:ca802b9c8c2c4bd0fdf9d23ea9a12305
DTSTAMP:20260420T082803Z
SUMMARY:A1-Liga: DC Unlimited vs. Jolly Pirates 1 (Clash)
DTSTART;TZID=Europe/Berlin:20241213T200000
DTEND;TZID=Europe/Berlin:20241213T220000
LOCATION:Industriestr. 11a\, 82110 Germering
END:VEVENT
BEGIN:VEVENT
UID:e0a29dc3689df91ffc332b0b9baa38a2
DTSTAMP:20260420T082803Z
SUMMARY:A1-Liga: Jolly Pirates 1 vs. DC Animals (Jolly Roger)
DTSTART;TZID=Europe/Berlin:20250111T203000
DTEND;TZID=Europe/Berlin:20250111T223000
LOCATION:Poststr. 2\, 85586 Poing
END:VEVENT
BEGIN:VEVENT
UID:d926a5e5708286e0d6878bbffd77cbce
DTSTAMP:20260420T082803Z
SUMMARY:A1-Liga: Die Harlekin Maschinen vs. Jolly Pirates 1 (Bistro Harleki
 n)
DTSTART;TZID=Europe/Berlin:20250117T200000
DTEND;TZID=Europe/Berlin:20250117T220000
LOCATION:Oefelestr. 21\, 81543 München
END:VEVENT
BEGIN:VEVENT
UID:40b2b190ca1b69b54dfd23576b3eb37e
DTSTAMP:20260420T082803Z
SUMMARY:A1-Liga: Jolly Pirates 1 vs. Spartans 2 (Jolly Roger)
DTSTART;TZID=Europe/Berlin:20250124T200000
DTEND;TZID=Europe/Berlin:20250124T220000
LOCATION:Poststr. 2\, 85586 Poing
END:VEVENT
BEGIN:VEVENT
UID:0239b7813a1d8d8d1072c08f6f39b4d0
DTSTAMP:20260420T082803Z
SUMMARY:A1-Liga: DC Legendary vs. Jolly Pirates 1 (Legendary)
DTSTART;TZID=Europe/Berlin:20250208T200000
DTEND;TZID=Europe/Berlin:20250208T220000
LOCATION:Kurfürstenstr. 11\, 80799 München
END:VEVENT
BEGIN:VEVENT
UID:95a33be94a5a93323f27989cee88ec9d
DTSTAMP:20260420T082803Z
SUMMARY:A1-Liga: Jolly Pirates 1 vs. Die Flintstones (Jolly Roger)
DTSTART;TZID=Europe/Berlin:20250214T200000
DTEND;TZID=Europe/Berlin:20250214T220000
LOCATION:Poststr. 2\, 85586 Poing
END:VEVENT
BEGIN:VEVENT
UID:9247f58e135d9f22324becffe8db74ca
DTSTAMP:20260420T082803Z
SUMMARY:A1-Liga: Jolly Pirates 2 vs. Jolly Pirates 1 (Jolly Roger)
DTSTART;TZID=Europe/Berlin:20250228T200000
DTEND;TZID=Europe/Berlin:20250228T220000
LOCATION:Poststr. 2\, 85586 Poing
END:VEVENT
BEGIN:VEVENT
UID:4654665ca42467c3039d6bcb0131eddd
DTSTAMP:20260420T082803Z
SUMMARY:A1-Liga: Jolly Pirates 1 vs. il "Lumis" nati (Jolly Roger)
DTSTART;TZID=Europe/Berlin:20250307T200000
DTEND;TZID=Europe/Berlin:20250307T220000
LOCATION:Poststr. 2\, 85586 Poing
END:VEVENT
BEGIN:VEVENT
UID:2b9e64bea591329ec50bc825769b41c0
DTSTAMP:20260420T082803Z
SUMMARY:A1-Liga: Jolly´s Gladiators vs. Jolly Pirates 1 (Jolly Roger)
DTSTART;TZID=Europe/Berlin:20250523T200000
DTEND;TZID=Europe/Berlin:20250523T220000
LOCATION:Poststr. 2\, 85586 Poing
END:VEVENT
BEGIN:VEVENT
UID:013f8f495acddedcc8409af271408f13
DTSTAMP:20260420T082803Z
SUMMARY:A1-Liga: Jolly Pirates 1 vs. Bulls-Eye-Predator 1 (Jolly Roger)
DTSTART;TZID=Europe/Berlin:20250314T200000
DTEND;TZID=Europe/Berlin:20250314T220000
LOCATION:Poststr. 2\, 85586 Poing
END:VEVENT
BEGIN:VEVENT
UID:e0a928ed29b1f71c296d11b094eab2fd
DTSTAMP:20260420T082803Z
SUMMARY:A1-Liga: Harlekins Heaven & Hell vs. Jolly Pirates 1 (Bistro Harlek
 in)
DTSTART;TZID=Europe/Berlin:20250405T200000
DTEND;TZID=Europe/Berlin:20250405T220000
LOCATION:Oefelestr. 21\, 81543 München
END:VEVENT
BEGIN:VEVENT
UID:5c105d7e8346aae9330bd291fe7d2c1d
DTSTAMP:20260420T082803Z
SUMMARY:A1-Liga: Jolly Pirates 1 vs. The Scorpions (Jolly Roger)
DTSTART;TZID=Europe/Berlin:20250411T200000
DTEND;TZID=Europe/Berlin:20250411T220000
LOCATION:Poststr. 2\, 85586 Poing
END:VEVENT
BEGIN:VEVENT
UID:3433f8bd68af1efd50c45ba37d165d31
DTSTAMP:20260420T082803Z
SUMMARY:A1-Liga: Bavarian Bastards vs. Jolly Pirates 1 (V4)
DTSTART;TZID=Europe/Berlin:20250425T200000
DTEND;TZID=Europe/Berlin:20250425T220000
LOCATION:Mainburgerstr. 36\, 84072 Au/Hallertau
END:VEVENT
BEGIN:VEVENT
UID:9a2c093ba4563dbc2cbc68ffb5eb699c
DTSTAMP:20260420T082803Z
SUMMARY:A1-Liga: Jolly Pirates 1 vs. DC Unlimited (Jolly Roger)
DTSTART;TZID=Europe/Berlin:20250502T200000
DTEND;TZID=Europe/Berlin:20250502T220000
LOCATION:Poststr. 2\, 85586 Poing
END:VEVENT
BEGIN:VEVENT
UID:54d86b1cec5e583cdb0f82fbf081340f
DTSTAMP:20260420T082803Z
SUMMARY:A1-Liga: DC Animals vs. Jolly Pirates 1 (Kegelkeller Grafing)
DTSTART;TZID=Europe/Berlin:20250510T203000
DTEND;TZID=Europe/Berlin:20250510T223000
LOCATION:Lederergasse 6\, 85567 Grafing
END:VEVENT
BEGIN:VEVENT
UID:96f0462e8afaff763e15e495fd6861df
DTSTAMP:20260420T082803Z
SUMMARY:A1-Liga: Jolly Pirates 1 vs. Die Harlekin Maschinen (Jolly Roger)
DTSTART;TZID=Europe/Berlin:20250516T200000
DTEND;TZID=Europe/Berlin:20250516T220000
LOCATION:Poststr. 2\, 85586 Poing
END:VEVENT
BEGIN:VEVENT
UID:2a89dd6141db12688af2308b6e7a8f84
DTSTAMP:20260420T082803Z
SUMMARY:A1-Liga: Spartans 2 vs. Jolly Pirates 1 (Spartans Dart Pub)
DTSTART;TZID=Europe/Berlin:20250530T200000
DTEND;TZID=Europe/Berlin:20250530T220000
LOCATION:Korbinianstr. 61\, 80807 München
END:VEVENT
BEGIN:VEVENT
UID:205cba0147189f173a633a635a5e0141
DTSTAMP:20260420T082803Z
SUMMARY:A1-Liga: Jolly Pirates 1 vs. DC Legendary (Jolly Roger)
DTSTART;TZID=Europe/Berlin:20250606T200000
DTEND;TZID=Europe/Berlin:20250606T220000
LOCATION:Poststr. 2\, 85586 Poing
END:VEVENT
BEGIN:VEVENT
UID:21b47e62be2a52b7ac975e3bed9b6005
DTSTAMP:20260420T082803Z
SUMMARY:A1-Liga: Die Flintstones vs. Jolly Pirates 1 (Lumis Cocktailbar)
DTSTART;TZID=Europe/Berlin:20250621T200000
DTEND;TZID=Europe/Berlin:20250621T220000
LOCATION:Bodenseestr. 19\, 81241 München
END:VEVENT
END:VCALENDAR
