BEGIN:VCALENDAR
PRODID:-//eluceo/ical//2.0/EN
VERSION:2.0
CALSCALE:GREGORIAN
BEGIN:VEVENT
UID:aade7ac68c4208700ff512bb43f55b84
DTSTAMP:20260420T083644Z
SUMMARY:MeD  C1  - Liga: Wuide Chaos Weiber vs. Crazy Birds (Bistro Harleki
 n)
DTSTART;TZID=Europe/Berlin:20240229T200000
DTEND;TZID=Europe/Berlin:20240229T220000
LOCATION:Oefelestr. 21\, 81543 München
END:VEVENT
BEGIN:VEVENT
UID:144a30f334aa01ad92273519d4b264b9
DTSTAMP:20260420T083644Z
SUMMARY:MeD  C1  - Liga: Crazy Birds vs. Isar Sharks (Schiller's Bistro)
DTSTART;TZID=Europe/Berlin:20240307T200000
DTEND;TZID=Europe/Berlin:20240307T220000
LOCATION:Friedrichshafenerstr. 17\, 81243 München
END:VEVENT
BEGIN:VEVENT
UID:8504c7a40f0381269c946cf3aa27d626
DTSTAMP:20260420T083644Z
SUMMARY:MeD  C1  - Liga: Crazy Birds vs. Dorfkinder (Schiller's Bistro)
DTSTART;TZID=Europe/Berlin:20240314T200000
DTEND;TZID=Europe/Berlin:20240314T220000
LOCATION:Friedrichshafenerstr. 17\, 81243 München
END:VEVENT
BEGIN:VEVENT
UID:91fa21ad4d7dcedc00de233052e3fd13
DTSTAMP:20260420T083644Z
SUMMARY:MeD  C1  - Liga: DC Wild Devils vs. Crazy Birds (K1 Spielothek)
DTSTART;TZID=Europe/Berlin:20240320T200000
DTEND;TZID=Europe/Berlin:20240320T220000
LOCATION:Am Forst 4\, 85560 Ebersberg
END:VEVENT
BEGIN:VEVENT
UID:b32f8e26ca1292de004be22d28884944
DTSTAMP:20260420T083644Z
SUMMARY:MeD  C1  - Liga: Crazy Birds vs. Isar Sharks (Schiller's Bistro)
DTSTART;TZID=Europe/Berlin:20241010T200000
DTEND;TZID=Europe/Berlin:20241010T220000
LOCATION:Friedrichshafenerstr. 17\, 81243 München
END:VEVENT
BEGIN:VEVENT
UID:7abedf441120e495dc8ba5a9e6122bc4
DTSTAMP:20260420T083644Z
SUMMARY:MeD  C1  - Liga: De Voglwuidn vs. Crazy Birds (Spartans Dart Pub)
DTSTART;TZID=Europe/Berlin:20240403T200000
DTEND;TZID=Europe/Berlin:20240403T220000
LOCATION:Korbinianstr. 61\, 80807 München
END:VEVENT
BEGIN:VEVENT
UID:bcfa1351e9d4c3209225e6a1b9fd0398
DTSTAMP:20260420T083644Z
SUMMARY:MeD  C1  - Liga: Crazy Birds vs. Wuide Chaos Weiber (Schiller's Bis
 tro)
DTSTART;TZID=Europe/Berlin:20240523T200000
DTEND;TZID=Europe/Berlin:20240523T220000
LOCATION:Friedrichshafenerstr. 17\, 81243 München
END:VEVENT
BEGIN:VEVENT
UID:d15f486181a670a4d10079dd761dcc8d
DTSTAMP:20260420T083644Z
SUMMARY:MeD  C1  - Liga: Isar Sharks vs. Crazy Birds (Dartpub 180)
DTSTART;TZID=Europe/Berlin:20240418T200000
DTEND;TZID=Europe/Berlin:20240418T220000
LOCATION:Ladehofstr. 10-12\, 85540 Haar
END:VEVENT
BEGIN:VEVENT
UID:1f70e2a9558b8abd6346a50c6ccf5415
DTSTAMP:20260420T083644Z
SUMMARY:MeD  C1  - Liga: Dorfkinder vs. Crazy Birds (Dartpub 180)
DTSTART;TZID=Europe/Berlin:20240425T200000
DTEND;TZID=Europe/Berlin:20240425T220000
LOCATION:Ladehofstr. 10-12\, 85540 Haar
END:VEVENT
BEGIN:VEVENT
UID:182edf8394126ad0c472ed247b4f77e1
DTSTAMP:20260420T083644Z
SUMMARY:MeD  C1  - Liga: Crazy Birds vs. DC Wild Devils (Schiller's Bistro)
DTSTART;TZID=Europe/Berlin:20240516T200000
DTEND;TZID=Europe/Berlin:20240516T220000
LOCATION:Friedrichshafenerstr. 17\, 81243 München
END:VEVENT
BEGIN:VEVENT
UID:50c280664db6e3bbe95846e4b1eea09d
DTSTAMP:20260420T083644Z
SUMMARY:MeD  C1  - Liga: Crazy Birds vs. De Voglwuidn (Schiller's Bistro)
DTSTART;TZID=Europe/Berlin:20240530T200000
DTEND;TZID=Europe/Berlin:20240530T220000
LOCATION:Friedrichshafenerstr. 17\, 81243 München
END:VEVENT
END:VCALENDAR
