BEGIN:VCALENDAR
PRODID:-//eluceo/ical//2.0/EN
VERSION:2.0
CALSCALE:GREGORIAN
BEGIN:VEVENT
UID:4503176a83e7ae5e1248f0c09a0505b2
DTSTAMP:20260421T084821Z
SUMMARY:B1-Liga: de Isartaler vs. 26 Schnitt (Eddys Treff)
DTSTART;TZID=Europe/Berlin:20231014T200000
DTEND;TZID=Europe/Berlin:20231014T220000
LOCATION:Starnbergerstr. 7\, 82069 Hohenschäftlarn
END:VEVENT
BEGIN:VEVENT
UID:159945f6f93ff7bcc0936da89e21e2da
DTSTAMP:20260421T084821Z
SUMMARY:B1-Liga: 26 Schnitt vs. Spartans 4 (Dartpub 180)
DTSTART;TZID=Europe/Berlin:20231027T200000
DTEND;TZID=Europe/Berlin:20231027T220000
LOCATION:Ladehofstr. 10-12\, 85540 Haar
END:VEVENT
BEGIN:VEVENT
UID:026e76fab82587ad1fcfd8087bc18714
DTSTAMP:20260421T084821Z
SUMMARY:B1-Liga: DC Legendary vs. 26 Schnitt (Legendary)
DTSTART;TZID=Europe/Berlin:20231104T200000
DTEND;TZID=Europe/Berlin:20231104T220000
LOCATION:Kurfürstenstr. 11\, 80799 München
END:VEVENT
BEGIN:VEVENT
UID:74c90ed015754ffbbb38e7817186d36d
DTSTAMP:20260421T084821Z
SUMMARY:B1-Liga: 26 Schnitt vs. DC Räuber Kneißl (Dartpub 180)
DTSTART;TZID=Europe/Berlin:20240112T200000
DTEND;TZID=Europe/Berlin:20240112T220000
LOCATION:Ladehofstr. 10-12\, 85540 Haar
END:VEVENT
BEGIN:VEVENT
UID:21771d386122fe3043aa8a59ebeee6c6
DTSTAMP:20260421T084821Z
SUMMARY:B1-Liga: Almchecker vs. 26 Schnitt (Giesinger Alm)
DTSTART;TZID=Europe/Berlin:20240203T200000
DTEND;TZID=Europe/Berlin:20240203T220000
LOCATION:Deisenhofenerstr. 17a\, 81539 München
END:VEVENT
BEGIN:VEVENT
UID:17e1959f53f94b40e7b83de358619fd1
DTSTAMP:20260421T084821Z
SUMMARY:B1-Liga: 26 Schnitt vs. DC Hoib so stark (Dartpub 180)
DTSTART;TZID=Europe/Berlin:20240119T200000
DTEND;TZID=Europe/Berlin:20240119T220000
LOCATION:Ladehofstr. 10-12\, 85540 Haar
END:VEVENT
BEGIN:VEVENT
UID:40db032a7284f2c14648f1758da76e2d
DTSTAMP:20260421T084821Z
SUMMARY:B1-Liga: 26 Schnitt vs. Harlekin Sharks (Dartpub 180)
DTSTART;TZID=Europe/Berlin:20240126T200000
DTEND;TZID=Europe/Berlin:20240126T220000
LOCATION:Ladehofstr. 10-12\, 85540 Haar
END:VEVENT
BEGIN:VEVENT
UID:c2712f186d946d7dc75414382bd45e60
DTSTAMP:20260421T084821Z
SUMMARY:B1-Liga: Board Killaz Neubiberg I vs. 26 Schnitt (Restaurant Minoa)
DTSTART;TZID=Europe/Berlin:20240210T200000
DTEND;TZID=Europe/Berlin:20240210T220000
LOCATION:Zwergerstr. 28\, 85579 Neubiberg
END:VEVENT
BEGIN:VEVENT
UID:91af301ea43a9c5a2311619e76747284
DTSTAMP:20260421T084821Z
SUMMARY:B1-Liga: 26 Schnitt vs. DC Bad Ducks 2.0 (Dartpub 180)
DTSTART;TZID=Europe/Berlin:20240216T200000
DTEND;TZID=Europe/Berlin:20240216T220000
LOCATION:Ladehofstr. 10-12\, 85540 Haar
END:VEVENT
BEGIN:VEVENT
UID:43573e6ec504e6cbea0c42c4569f5898
DTSTAMP:20260421T084821Z
SUMMARY:B1-Liga: 26 Schnitt vs. de Isartaler (Dartpub 180)
DTSTART;TZID=Europe/Berlin:20240223T200000
DTEND;TZID=Europe/Berlin:20240223T220000
LOCATION:Ladehofstr. 10-12\, 85540 Haar
END:VEVENT
BEGIN:VEVENT
UID:c48114a9ebac45ad9dd56bdf171b4bad
DTSTAMP:20260421T084821Z
SUMMARY:B1-Liga: Spartans 4 vs. 26 Schnitt (Spartans Dart Pub)
DTSTART;TZID=Europe/Berlin:20240315T200000
DTEND;TZID=Europe/Berlin:20240315T220000
LOCATION:Korbinianstr. 61\, 80807 München
END:VEVENT
BEGIN:VEVENT
UID:7b7ad5751ef403c1ac7d3b75cab97ed3
DTSTAMP:20260421T084821Z
SUMMARY:B1-Liga: 26 Schnitt vs. DC Legendary (Dartpub 180)
DTSTART;TZID=Europe/Berlin:20240322T200000
DTEND;TZID=Europe/Berlin:20240322T220000
LOCATION:Ladehofstr. 10-12\, 85540 Haar
END:VEVENT
BEGIN:VEVENT
UID:b94cd585960fe4299f684fa5d684834b
DTSTAMP:20260421T084821Z
SUMMARY:B1-Liga: DC Räuber Kneißl vs. 26 Schnitt (Kegelbahn DC Wahnsinn)
DTSTART;TZID=Europe/Berlin:20240413T200000
DTEND;TZID=Europe/Berlin:20240413T220000
LOCATION:Stresemannstr. 17\, 85221 Dachau
END:VEVENT
BEGIN:VEVENT
UID:5d42ee10dc339d51df1174f9b83d3309
DTSTAMP:20260421T084821Z
SUMMARY:B1-Liga: 26 Schnitt vs. Almchecker (Dartpub 180)
DTSTART;TZID=Europe/Berlin:20240426T200000
DTEND;TZID=Europe/Berlin:20240426T220000
LOCATION:Ladehofstr. 10-12\, 85540 Haar
END:VEVENT
BEGIN:VEVENT
UID:f299680f1167e17b76222b1dd5a01343
DTSTAMP:20260421T084821Z
SUMMARY:B1-Liga: DC Hoib so stark vs. 26 Schnitt (Moosacher Dartclub  e. V.
 )
DTSTART;TZID=Europe/Berlin:20240512T160000
DTEND;TZID=Europe/Berlin:20240512T180000
LOCATION:Weitlstr. 140\, 80995 München
END:VEVENT
BEGIN:VEVENT
UID:d3bca5cd67947ae6e710056b81dfa2ff
DTSTAMP:20260421T084821Z
SUMMARY:B1-Liga: Harlekin Sharks vs. 26 Schnitt (Bistro Harlekin)
DTSTART;TZID=Europe/Berlin:20240531T200000
DTEND;TZID=Europe/Berlin:20240531T220000
LOCATION:Oefelestr. 21\, 81543 München
END:VEVENT
BEGIN:VEVENT
UID:b91c24ebe26319284708c6fd61785609
DTSTAMP:20260421T084821Z
SUMMARY:B1-Liga: 26 Schnitt vs. Board Killaz Neubiberg I (Dartpub 180)
DTSTART;TZID=Europe/Berlin:20240614T200000
DTEND;TZID=Europe/Berlin:20240614T220000
LOCATION:Ladehofstr. 10-12\, 85540 Haar
END:VEVENT
BEGIN:VEVENT
UID:3894d106452c48eedd07e4d40169c291
DTSTAMP:20260421T084821Z
SUMMARY:B1-Liga: DC Bad Ducks 2.0 vs. 26 Schnitt (Golden 777)
DTSTART;TZID=Europe/Berlin:20240621T200000
DTEND;TZID=Europe/Berlin:20240621T220000
LOCATION:Industriestr. 17\, 82256 Fürstenfeldbruck
END:VEVENT
END:VCALENDAR
