BEGIN:VCALENDAR
PRODID:-//eluceo/ical//2.0/EN
VERSION:2.0
CALSCALE:GREGORIAN
BEGIN:VEVENT
UID:8d1d59b010f3e3cf4a3f882b7fd7a659
DTSTAMP:20260421T100258Z
SUMMARY:B1-Liga: DC Hoib so stark vs. Board Killaz Neubiberg I (Moosacher D
 artclub  e. V.)
DTSTART;TZID=Europe/Berlin:20231014T200000
DTEND;TZID=Europe/Berlin:20231014T220000
LOCATION:Weitlstr. 140\, 80995 München
END:VEVENT
BEGIN:VEVENT
UID:2efb756d5d9aac5f6866229cd43454b9
DTSTAMP:20260421T100258Z
SUMMARY:B1-Liga: DC Räuber Kneißl vs. DC Hoib so stark (Kegelbahn DC Wahn
 sinn)
DTSTART;TZID=Europe/Berlin:20231111T200000
DTEND;TZID=Europe/Berlin:20231111T220000
LOCATION:Stresemannstr. 17\, 85221 Dachau
END:VEVENT
BEGIN:VEVENT
UID:d9e63e4efafbe12d67d65c9be673678d
DTSTAMP:20260421T100258Z
SUMMARY:B1-Liga: DC Hoib so stark vs. DC Bad Ducks 2.0 (Moosacher Dartclub 
  e. V.)
DTSTART;TZID=Europe/Berlin:20231103T200000
DTEND;TZID=Europe/Berlin:20231103T220000
LOCATION:Weitlstr. 140\, 80995 München
END:VEVENT
BEGIN:VEVENT
UID:65655c8cb7752d6c09fbc079ddd96556
DTSTAMP:20260421T100258Z
SUMMARY:B1-Liga: Almchecker vs. DC Hoib so stark (Giesinger Alm)
DTSTART;TZID=Europe/Berlin:20231125T200000
DTEND;TZID=Europe/Berlin:20231125T220000
LOCATION:Deisenhofenerstr. 17a\, 81539 München
END:VEVENT
BEGIN:VEVENT
UID:a0a2bb5f48775af37ed0498a9857c628
DTSTAMP:20260421T100258Z
SUMMARY:B1-Liga: 26 Schnitt vs. DC Hoib so stark (Dartpub 180)
DTSTART;TZID=Europe/Berlin:20240119T200000
DTEND;TZID=Europe/Berlin:20240119T220000
LOCATION:Ladehofstr. 10-12\, 85540 Haar
END:VEVENT
BEGIN:VEVENT
UID:82b3b204a163b99bfb4f9cf7b9ee6168
DTSTAMP:20260421T100258Z
SUMMARY:B1-Liga: DC Hoib so stark vs. Spartans 4 (Moosacher Dartclub  e. V.
 )
DTSTART;TZID=Europe/Berlin:20240128T160000
DTEND;TZID=Europe/Berlin:20240128T180000
LOCATION:Weitlstr. 140\, 80995 München
END:VEVENT
BEGIN:VEVENT
UID:c6ad0e087fb733eeb29c7afedb5d04a9
DTSTAMP:20260421T100258Z
SUMMARY:B1-Liga: Harlekin Sharks vs. DC Hoib so stark (Bistro Harlekin)
DTSTART;TZID=Europe/Berlin:20240209T200000
DTEND;TZID=Europe/Berlin:20240209T220000
LOCATION:Oefelestr. 21\, 81543 München
END:VEVENT
BEGIN:VEVENT
UID:4a383ada6a1b8435876134236e036702
DTSTAMP:20260421T100258Z
SUMMARY:B1-Liga: DC Hoib so stark vs. DC Legendary (Moosacher Dartclub  e. 
 V.)
DTSTART;TZID=Europe/Berlin:20240217T200000
DTEND;TZID=Europe/Berlin:20240217T220000
LOCATION:Weitlstr. 140\, 80995 München
END:VEVENT
BEGIN:VEVENT
UID:a4a621faa9b5f7b2bc6130a6c45c4fe9
DTSTAMP:20260421T100258Z
SUMMARY:B1-Liga: Board Killaz Neubiberg I vs. DC Hoib so stark (Restaurant 
 Minoa)
DTSTART;TZID=Europe/Berlin:20240224T200000
DTEND;TZID=Europe/Berlin:20240224T220000
LOCATION:Zwergerstr. 28\, 85579 Neubiberg
END:VEVENT
BEGIN:VEVENT
UID:5e3308a3daf05ff30787b1e06e7c528f
DTSTAMP:20260421T100258Z
SUMMARY:B1-Liga: DC Hoib so stark vs. DC Räuber Kneißl (Moosacher Dartclu
 b  e. V.)
DTSTART;TZID=Europe/Berlin:20240524T200000
DTEND;TZID=Europe/Berlin:20240524T220000
LOCATION:Weitlstr. 140\, 80995 München
END:VEVENT
BEGIN:VEVENT
UID:345bf93d57b7835acbb0d241f7e8b9f0
DTSTAMP:20260421T100258Z
SUMMARY:B1-Liga: DC Bad Ducks 2.0 vs. DC Hoib so stark (Golden 777)
DTSTART;TZID=Europe/Berlin:20240323T200000
DTEND;TZID=Europe/Berlin:20240323T220000
LOCATION:Industriestr. 17\, 82256 Fürstenfeldbruck
END:VEVENT
BEGIN:VEVENT
UID:bc3f6ee2b632f4a32738daf50067a3a4
DTSTAMP:20260421T100258Z
SUMMARY:B1-Liga: DC Hoib so stark vs. Almchecker (Moosacher Dartclub  e. V.
 )
DTSTART;TZID=Europe/Berlin:20240412T200000
DTEND;TZID=Europe/Berlin:20240412T220000
LOCATION:Weitlstr. 140\, 80995 München
END:VEVENT
BEGIN:VEVENT
UID:1fcd626d113f5909390e7a7ebb422233
DTSTAMP:20260421T100258Z
SUMMARY:B1-Liga: de Isartaler vs. DC Hoib so stark (Eddys Treff)
DTSTART;TZID=Europe/Berlin:20240427T200000
DTEND;TZID=Europe/Berlin:20240427T220000
LOCATION:Starnbergerstr. 7\, 82069 Hohenschäftlarn
END:VEVENT
BEGIN:VEVENT
UID:85eeddf9137ea41237305f389626e3d1
DTSTAMP:20260421T100258Z
SUMMARY:B1-Liga: DC Hoib so stark vs. 26 Schnitt (Moosacher Dartclub  e. V.
 )
DTSTART;TZID=Europe/Berlin:20240512T160000
DTEND;TZID=Europe/Berlin:20240512T180000
LOCATION:Weitlstr. 140\, 80995 München
END:VEVENT
BEGIN:VEVENT
UID:cecb23ecf9eda0b06b6e88b8aab801cc
DTSTAMP:20260421T100258Z
SUMMARY:B1-Liga: Spartans 4 vs. DC Hoib so stark (Spartans Dart Pub)
DTSTART;TZID=Europe/Berlin:20240531T200000
DTEND;TZID=Europe/Berlin:20240531T220000
LOCATION:Korbinianstr. 61\, 80807 München
END:VEVENT
BEGIN:VEVENT
UID:3a049ee0cae90e2b268fbf8d5cbee0ed
DTSTAMP:20260421T100258Z
SUMMARY:B1-Liga: DC Hoib so stark vs. Harlekin Sharks (Moosacher Dartclub  
 e. V.)
DTSTART;TZID=Europe/Berlin:20240615T200000
DTEND;TZID=Europe/Berlin:20240615T220000
LOCATION:Weitlstr. 140\, 80995 München
END:VEVENT
BEGIN:VEVENT
UID:0c3c13a6c2bb39e6f282fe6a3dc9effb
DTSTAMP:20260421T100258Z
SUMMARY:B1-Liga: DC Legendary vs. DC Hoib so stark (Legendary)
DTSTART;TZID=Europe/Berlin:20240622T200000
DTEND;TZID=Europe/Berlin:20240622T220000
LOCATION:Kurfürstenstr. 11\, 80799 München
END:VEVENT
END:VCALENDAR
