BEGIN:VCALENDAR
PRODID:-//eluceo/ical//2.0/EN
VERSION:2.0
CALSCALE:GREGORIAN
BEGIN:VEVENT
UID:e2b74f73cefe1b9ec35e7cb86b96dfa4
DTSTAMP:20260421T100408Z
SUMMARY:B1-Liga: DC Legendary vs. DC Räuber Kneißl (Legendary)
DTSTART;TZID=Europe/Berlin:20231014T200000
DTEND;TZID=Europe/Berlin:20231014T220000
LOCATION:Kurfürstenstr. 11\, 80799 München
END:VEVENT
BEGIN:VEVENT
UID:e1c2a104d1f8b17155948edf519ee625
DTSTAMP:20260421T100408Z
SUMMARY:B1-Liga: Almchecker vs. DC Legendary (Giesinger Alm)
DTSTART;TZID=Europe/Berlin:20240113T200000
DTEND;TZID=Europe/Berlin:20240113T220000
LOCATION:Deisenhofenerstr. 17a\, 81539 München
END:VEVENT
BEGIN:VEVENT
UID:89607ffa55c5c9fe8abc1d833e821caa
DTSTAMP:20260421T100408Z
SUMMARY:B1-Liga: DC Legendary vs. 26 Schnitt (Legendary)
DTSTART;TZID=Europe/Berlin:20231104T200000
DTEND;TZID=Europe/Berlin:20231104T220000
LOCATION:Kurfürstenstr. 11\, 80799 München
END:VEVENT
BEGIN:VEVENT
UID:f75f87aca38ac3e950f4bfd7f9bfc13c
DTSTAMP:20260421T100408Z
SUMMARY:B1-Liga: Harlekin Sharks vs. DC Legendary (Bistro Harlekin)
DTSTART;TZID=Europe/Berlin:20231124T200000
DTEND;TZID=Europe/Berlin:20231124T220000
LOCATION:Oefelestr. 21\, 81543 München
END:VEVENT
BEGIN:VEVENT
UID:183c546e5e2fb1dc9d1247742a0572d6
DTSTAMP:20260421T100408Z
SUMMARY:B1-Liga: DC Legendary vs. Board Killaz Neubiberg I (Legendary)
DTSTART;TZID=Europe/Berlin:20231202T200000
DTEND;TZID=Europe/Berlin:20231202T220000
LOCATION:Kurfürstenstr. 11\, 80799 München
END:VEVENT
BEGIN:VEVENT
UID:6429624314754574abd1546de801b200
DTSTAMP:20260421T100408Z
SUMMARY:B1-Liga: DC Bad Ducks 2.0 vs. DC Legendary (Golden 777)
DTSTART;TZID=Europe/Berlin:20240120T200000
DTEND;TZID=Europe/Berlin:20240120T220000
LOCATION:Industriestr. 17\, 82256 Fürstenfeldbruck
END:VEVENT
BEGIN:VEVENT
UID:fff0a2517870268a958e8cad9b03a577
DTSTAMP:20260421T100408Z
SUMMARY:B1-Liga: DC Legendary vs. de Isartaler (Legendary)
DTSTART;TZID=Europe/Berlin:20240127T200000
DTEND;TZID=Europe/Berlin:20240127T220000
LOCATION:Kurfürstenstr. 11\, 80799 München
END:VEVENT
BEGIN:VEVENT
UID:a9497d1ae095f1587cb6bbf5477ec694
DTSTAMP:20260421T100408Z
SUMMARY:B1-Liga: Spartans 4 vs. DC Legendary (Spartans Dart Pub)
DTSTART;TZID=Europe/Berlin:20240210T200000
DTEND;TZID=Europe/Berlin:20240210T220000
LOCATION:Korbinianstr. 61\, 80807 München
END:VEVENT
BEGIN:VEVENT
UID:f26c9f6136f1e80854523d0f321ce46a
DTSTAMP:20260421T100408Z
SUMMARY:B1-Liga: DC Hoib so stark vs. DC Legendary (Moosacher Dartclub  e. 
 V.)
DTSTART;TZID=Europe/Berlin:20240217T200000
DTEND;TZID=Europe/Berlin:20240217T220000
LOCATION:Weitlstr. 140\, 80995 München
END:VEVENT
BEGIN:VEVENT
UID:d2f99b415cef283a400d5107f660deb9
DTSTAMP:20260421T100408Z
SUMMARY:B1-Liga: DC Räuber Kneißl vs. DC Legendary (Kegelbahn DC Wahnsinn
 )
DTSTART;TZID=Europe/Berlin:20240224T200000
DTEND;TZID=Europe/Berlin:20240224T220000
LOCATION:Stresemannstr. 17\, 85221 Dachau
END:VEVENT
BEGIN:VEVENT
UID:4748b613edd497e9ce9929a4b278cc53
DTSTAMP:20260421T100408Z
SUMMARY:B1-Liga: DC Legendary vs. Almchecker (Legendary)
DTSTART;TZID=Europe/Berlin:20240504T200000
DTEND;TZID=Europe/Berlin:20240504T220000
LOCATION:Kurfürstenstr. 11\, 80799 München
END:VEVENT
BEGIN:VEVENT
UID:e72b7361801ee0d252d56e1513b6e31c
DTSTAMP:20260421T100408Z
SUMMARY:B1-Liga: 26 Schnitt vs. DC Legendary (Dartpub 180)
DTSTART;TZID=Europe/Berlin:20240322T200000
DTEND;TZID=Europe/Berlin:20240322T220000
LOCATION:Ladehofstr. 10-12\, 85540 Haar
END:VEVENT
BEGIN:VEVENT
UID:973c5a306778fcb0c9bf2d1e9fd01497
DTSTAMP:20260421T100408Z
SUMMARY:B1-Liga: DC Legendary vs. Harlekin Sharks (Legendary)
DTSTART;TZID=Europe/Berlin:20240413T200000
DTEND;TZID=Europe/Berlin:20240413T220000
LOCATION:Kurfürstenstr. 11\, 80799 München
END:VEVENT
BEGIN:VEVENT
UID:7cff6e0a0f312bada62ebc498badaa03
DTSTAMP:20260421T100408Z
SUMMARY:B1-Liga: Board Killaz Neubiberg I vs. DC Legendary (Restaurant Mino
 a)
DTSTART;TZID=Europe/Berlin:20240427T200000
DTEND;TZID=Europe/Berlin:20240427T220000
LOCATION:Zwergerstr. 28\, 85579 Neubiberg
END:VEVENT
BEGIN:VEVENT
UID:c083b6763f158de46c144ff361e6bacd
DTSTAMP:20260421T100408Z
SUMMARY:B1-Liga: DC Legendary vs. DC Bad Ducks 2.0 (Legendary)
DTSTART;TZID=Europe/Berlin:20240511T200000
DTEND;TZID=Europe/Berlin:20240511T220000
LOCATION:Kurfürstenstr. 11\, 80799 München
END:VEVENT
BEGIN:VEVENT
UID:c6e4f0ad0762439351c7be041def5f1d
DTSTAMP:20260421T100408Z
SUMMARY:B1-Liga: de Isartaler vs. DC Legendary (Eddys Treff)
DTSTART;TZID=Europe/Berlin:20240601T200000
DTEND;TZID=Europe/Berlin:20240601T220000
LOCATION:Starnbergerstr. 7\, 82069 Hohenschäftlarn
END:VEVENT
BEGIN:VEVENT
UID:5bcaafedfe21ee728da27ad584b9cc5a
DTSTAMP:20260421T100408Z
SUMMARY:B1-Liga: DC Legendary vs. Spartans 4 (Legendary)
DTSTART;TZID=Europe/Berlin:20240615T200000
DTEND;TZID=Europe/Berlin:20240615T220000
LOCATION:Kurfürstenstr. 11\, 80799 München
END:VEVENT
BEGIN:VEVENT
UID:5082b9c096dcde9961747d7446d1e617
DTSTAMP:20260421T100408Z
SUMMARY:B1-Liga: DC Legendary vs. DC Hoib so stark (Legendary)
DTSTART;TZID=Europe/Berlin:20240622T200000
DTEND;TZID=Europe/Berlin:20240622T220000
LOCATION:Kurfürstenstr. 11\, 80799 München
END:VEVENT
END:VCALENDAR
